BEGIN:VCALENDAR
VERSION:2.0
PRODID:-//The PA Hub - ECPv6.15.20//NONSGML v1.0//EN
CALSCALE:GREGORIAN
METHOD:PUBLISH
X-WR-CALNAME:The PA Hub
X-ORIGINAL-URL:https://www.thepahub.co.uk
X-WR-CALDESC:Events for The PA Hub
REFRESH-INTERVAL;VALUE=DURATION:PT1H
X-Robots-Tag:noindex
X-PUBLISHED-TTL:PT1H
BEGIN:VTIMEZONE
TZID:Europe/London
BEGIN:DAYLIGHT
TZOFFSETFROM:+0000
TZOFFSETTO:+0100
TZNAME:BST
DTSTART:20150329T010000
END:DAYLIGHT
BEGIN:STANDARD
TZOFFSETFROM:+0100
TZOFFSETTO:+0000
TZNAME:GMT
DTSTART:20151025T010000
END:STANDARD
BEGIN:DAYLIGHT
TZOFFSETFROM:+0000
TZOFFSETTO:+0100
TZNAME:BST
DTSTART:20160327T010000
END:DAYLIGHT
BEGIN:STANDARD
TZOFFSETFROM:+0100
TZOFFSETTO:+0000
TZNAME:GMT
DTSTART:20161030T010000
END:STANDARD
BEGIN:DAYLIGHT
TZOFFSETFROM:+0000
TZOFFSETTO:+0100
TZNAME:BST
DTSTART:20170326T010000
END:DAYLIGHT
BEGIN:STANDARD
TZOFFSETFROM:+0100
TZOFFSETTO:+0000
TZNAME:GMT
DTSTART:20171029T010000
END:STANDARD
BEGIN:DAYLIGHT
TZOFFSETFROM:+0000
TZOFFSETTO:+0100
TZNAME:BST
DTSTART:20180325T010000
END:DAYLIGHT
BEGIN:STANDARD
TZOFFSETFROM:+0100
TZOFFSETTO:+0000
TZNAME:GMT
DTSTART:20181028T010000
END:STANDARD
BEGIN:DAYLIGHT
TZOFFSETFROM:+0000
TZOFFSETTO:+0100
TZNAME:BST
DTSTART:20190331T010000
END:DAYLIGHT
BEGIN:STANDARD
TZOFFSETFROM:+0100
TZOFFSETTO:+0000
TZNAME:GMT
DTSTART:20191027T010000
END:STANDARD
BEGIN:DAYLIGHT
TZOFFSETFROM:+0000
TZOFFSETTO:+0100
TZNAME:BST
DTSTART:20200329T010000
END:DAYLIGHT
BEGIN:STANDARD
TZOFFSETFROM:+0100
TZOFFSETTO:+0000
TZNAME:GMT
DTSTART:20201025T010000
END:STANDARD
END:VTIMEZONE
BEGIN:VEVENT
DTSTART;TZID=Europe/London:20190905T173000
DTEND;TZID=Europe/London:20190905T203000
DTSTAMP:20260422T021425
CREATED:20190114T131154Z
LAST-MODIFIED:20190513T141504Z
UID:4671-1567704600-1567715400@www.thepahub.co.uk
SUMMARY:The PA Hub Leeds Christmas Showcase at The Met Hotel
DESCRIPTION:
URL:https://www.thepahub.co.uk/event/the-pa-hub-leeds-christmas-showcase-2/
CATEGORIES:Leeds,PA Hub Additional Events
END:VEVENT
BEGIN:VEVENT
DTSTART;TZID=Europe/London:20180517T180000
DTEND;TZID=Europe/London:20180517T200000
DTSTAMP:20260422T021425
CREATED:20180103T183040Z
LAST-MODIFIED:20180222T121153Z
UID:3395-1526580000-1526587200@www.thepahub.co.uk
SUMMARY:The PA Hub Liverpool Social and Pre-Conference Event at Gino D'Acampo My Restaurant Liverpool
DESCRIPTION:
URL:https://www.thepahub.co.uk/event/the-pa-hub-liverpool-social-and-pre-conference-event/
CATEGORIES:Liverpool
END:VEVENT
BEGIN:VEVENT
DTSTART;TZID=Europe/London:20180308T180000
DTEND;TZID=Europe/London:20180308T210000
DTSTAMP:20260422T021425
CREATED:20180103T182218Z
LAST-MODIFIED:20180112T150859Z
UID:3384-1520532000-1520542800@www.thepahub.co.uk
SUMMARY:The PA Hub Venue & Travel Showcase Leeds at Leeds Marriott Hotel (Free for PAs)
DESCRIPTION:
URL:https://www.thepahub.co.uk/event/the-pa-hub-venue-travel-showcase-leeds-at-leeds-marriott-hotel/
CATEGORIES:Leeds,PA Hub Additional Events
END:VEVENT
BEGIN:VEVENT
DTSTART;TZID=Europe/London:20180306T180000
DTEND;TZID=Europe/London:20180306T210000
DTSTAMP:20260422T021425
CREATED:20180103T183640Z
LAST-MODIFIED:20180112T150951Z
UID:3409-1520359200-1520370000@www.thepahub.co.uk
SUMMARY:The PA Hub Venue Showcase Liverpool at Liverpool Marriott Hotel City Centre (Free for PAs)
DESCRIPTION:
URL:https://www.thepahub.co.uk/event/the-pa-hub-venue-showcase-liverpool-at-the-marriott-liverpool/
CATEGORIES:Liverpool,PA Hub Additional Events
END:VEVENT
BEGIN:VEVENT
DTSTART;TZID=Europe/London:20170525T180000
DTEND;TZID=Europe/London:20170525T200000
DTSTAMP:20260422T021425
CREATED:20170412T145710Z
LAST-MODIFIED:20170502T071908Z
UID:2333-1495735200-1495742400@www.thepahub.co.uk
SUMMARY:The PA Hub Leeds Social Event at Victoria Gate Casino
DESCRIPTION:
URL:https://www.thepahub.co.uk/event/the-pa-hub-social-leeds-at-victoria-gate-casino/
CATEGORIES:Leeds
END:VEVENT
BEGIN:VEVENT
DTSTART;TZID=Europe/London:20170519T083000
DTEND;TZID=Europe/London:20170519T170000
DTSTAMP:20260422T021425
CREATED:20170501T162845Z
LAST-MODIFIED:20170501T163152Z
UID:2477-1495182600-1495213200@www.thepahub.co.uk
SUMMARY:The PA Hub Conference Liverpool #PA17LIV
DESCRIPTION:We are bringing The PA Hub Conference to Liverpool for the first time and we have an excellent line up of speakers to help you in your day to day role as an assistant. \nWe have a full day of learning and development as well as the opportunity to meet exhibitors and network with PA peers. The aim of the day is to offer up-skilling and training for PAs to help you develop in the ever-changing role of the modern assistant. \nSEE FULL CONFERENCE DETAILS HERE\nConference attendees can also attend The PA Hub Pre-Conference Social Event the evening before on Thursday 18 May\, 18:00 – 20:00 at Neighbourhood in Liverpool. See further details and how to book your place for this PA event here: Neighbourhood Event.
URL:https://www.thepahub.co.uk/event/the-pa-hub-conference-liverpool-pa17liv/
LOCATION:Malmaison Liverpool\, 7 William Jessop Way\, Liverpool\, Merseyside\, L3 1QZ
CATEGORIES:Leeds,Liverpool,PA Hub Additional Events,York
END:VEVENT
BEGIN:VEVENT
DTSTART;TZID=Europe/London:20170518T180000
DTEND;TZID=Europe/London:20170518T200000
DTSTAMP:20260422T021425
CREATED:20170405T173206Z
LAST-MODIFIED:20170405T173836Z
UID:2205-1495130400-1495137600@www.thepahub.co.uk
SUMMARY:The PA Hub Liverpool Social & Pre-Conference Event at Neighbourhood Eatery & Late Bar
DESCRIPTION:
URL:https://www.thepahub.co.uk/event/the-pa-hub-liverpool-social-pre-conference-event-at-neighbourhood-eatery-late-bar/
CATEGORIES:Leeds,Liverpool,PA Hub Additional Events,York
END:VEVENT
BEGIN:VEVENT
DTSTART;TZID=Europe/London:20170503T180000
DTEND;TZID=Europe/London:20170503T210000
DTSTAMP:20260422T021425
CREATED:20170126T002618Z
LAST-MODIFIED:20170302T231524Z
UID:1953-1493834400-1493845200@www.thepahub.co.uk
SUMMARY:The PA Hub Venue Showcase at The Rose Bowl\, Leeds
DESCRIPTION:
URL:https://www.thepahub.co.uk/event/the-pa-hub-venue-showcase-leeds/
CATEGORIES:Leeds,PA Hub Additional Events,York
END:VEVENT
BEGIN:VEVENT
DTSTART;TZID=Europe/London:20170328T180000
DTEND;TZID=Europe/London:20170328T210000
DTSTAMP:20260422T021425
CREATED:20170125T124628Z
LAST-MODIFIED:20170302T231737Z
UID:1943-1490724000-1490734800@www.thepahub.co.uk
SUMMARY:The PA Hub Venue Showcase at Ziferblat St Paul's Square\, Liverpool
DESCRIPTION:
URL:https://www.thepahub.co.uk/event/the-pa-hub-venue-showcase-liverpool-vsc17liv/
CATEGORIES:Liverpool,PA Hub Additional Events
END:VEVENT
BEGIN:VEVENT
DTSTART;TZID=Europe/London:20170323T180000
DTEND;TZID=Europe/London:20170323T203000
DTSTAMP:20260422T021425
CREATED:20170126T110211Z
LAST-MODIFIED:20170126T110211Z
UID:1976-1490292000-1490301000@www.thepahub.co.uk
SUMMARY:The PA Hub Leeds Development Event at Malmaison with Guest Speaker Melanie Richardson
DESCRIPTION:
URL:https://www.thepahub.co.uk/event/the-pa-hub-leeds-development-event-at-malmaison-with-guest-speaker-melanie-richardson/
CATEGORIES:Leeds
END:VEVENT
BEGIN:VEVENT
DTSTART;TZID=Europe/London:20170322T180000
DTEND;TZID=Europe/London:20170322T203000
DTSTAMP:20260422T021425
CREATED:20170126T114700Z
LAST-MODIFIED:20170126T114700Z
UID:1978-1490205600-1490214600@www.thepahub.co.uk
SUMMARY:The PA Hub York Development Event at Bettys with Guest Speaker Melanie Richardson
DESCRIPTION:
URL:https://www.thepahub.co.uk/event/the-pa-hub-york-development-event-at-bettys-with-guest-speaker-melanie-richardson/
CATEGORIES:York
END:VEVENT
BEGIN:VEVENT
DTSTART;TZID=Europe/London:20170314T180000
DTEND;TZID=Europe/London:20170314T210000
DTSTAMP:20260422T021425
CREATED:20170125T232640Z
LAST-MODIFIED:20170217T151406Z
UID:1947-1489514400-1489525200@www.thepahub.co.uk
SUMMARY:The PA Hub Travel Showcase at Radisson Blu Leeds
DESCRIPTION:
URL:https://www.thepahub.co.uk/event/the-pa-hub-travel-showcase-leeds/
CATEGORIES:Leeds,PA Hub Additional Events,York
END:VEVENT
BEGIN:VEVENT
DTSTART;TZID=Europe/London:20170307T180000
DTEND;TZID=Europe/London:20170307T203000
DTSTAMP:20260422T021425
CREATED:20170126T180523Z
LAST-MODIFIED:20170126T181116Z
UID:1980-1488909600-1488918600@www.thepahub.co.uk
SUMMARY:The PA Hub Liverpool Development Event at Marriott City Centre with Guest Speaker Rachael King
DESCRIPTION:
URL:https://www.thepahub.co.uk/event/the-pa-hub-liverpool-development-event-with-guest-speaker-rachael-king/
CATEGORIES:Liverpool
END:VEVENT
BEGIN:VEVENT
DTSTART;TZID=Europe/London:20170209T180000
DTEND;TZID=Europe/London:20170209T200000
DTSTAMP:20260422T021425
CREATED:20170124T155912Z
LAST-MODIFIED:20170124T155912Z
UID:1938-1486663200-1486670400@www.thepahub.co.uk
SUMMARY:The PA Hub Leeds Social at Gaucho
DESCRIPTION:
URL:https://www.thepahub.co.uk/event/the-pa-hub-leeds-social-at-gaucho/
CATEGORIES:Leeds
END:VEVENT
BEGIN:VEVENT
DTSTART;TZID=Europe/London:20170208T180000
DTEND;TZID=Europe/London:20170208T200000
DTSTAMP:20260422T021425
CREATED:20170124T150718Z
LAST-MODIFIED:20170124T151756Z
UID:1934-1486576800-1486584000@www.thepahub.co.uk
SUMMARY:The PA Hub York Social Event at Crabtree & Evelyn
DESCRIPTION:
URL:https://www.thepahub.co.uk/event/the-pa-hub-york-social-event-2/
CATEGORIES:York
END:VEVENT
BEGIN:VEVENT
DTSTART;TZID=Europe/London:20170131T180000
DTEND;TZID=Europe/London:20170131T200000
DTSTAMP:20260422T021425
CREATED:20170117T224016Z
LAST-MODIFIED:20170117T224016Z
UID:1898-1485885600-1485892800@www.thepahub.co.uk
SUMMARY:The PA Hub Liverpool Social Event at Smugglers Cove
DESCRIPTION:
URL:https://www.thepahub.co.uk/event/the-pa-hub-liverpool-social-event-at-smugglers-cove/
CATEGORIES:Liverpool
END:VEVENT
BEGIN:VEVENT
DTSTART;TZID=Europe/London:20170119T180000
DTEND;TZID=Europe/London:20170119T210000
DTSTAMP:20260422T021425
CREATED:20161229T111734Z
LAST-MODIFIED:20161229T111734Z
UID:1811-1484848800-1484859600@www.thepahub.co.uk
SUMMARY:The PA Hub Leeds Birthday Event with Leeds Rhinos Foundation and Jamie Jones-Buchanan
DESCRIPTION:
URL:https://www.thepahub.co.uk/event/the-pa-hub-leeds-birthday-event-with-leeds-rhinos-foundation-and-jamie-jones-buchanan/
CATEGORIES:Leeds
END:VEVENT
BEGIN:VEVENT
DTSTART;TZID=Europe/London:20170111T180000
DTEND;TZID=Europe/London:20170111T203000
DTSTAMP:20260422T021425
CREATED:20161220T191026Z
LAST-MODIFIED:20161220T191316Z
UID:1804-1484157600-1484166600@www.thepahub.co.uk
SUMMARY:The PA Hub York Development Event with Heather Baker
DESCRIPTION:
URL:https://www.thepahub.co.uk/event/the-pa-hub-york-development-event-with-heather-baker/
CATEGORIES:York
END:VEVENT
BEGIN:VEVENT
DTSTART;TZID=Europe/London:20170110T180000
DTEND;TZID=Europe/London:20170110T203000
DTSTAMP:20260422T021425
CREATED:20161221T205744Z
LAST-MODIFIED:20161221T205744Z
UID:1808-1484071200-1484080200@www.thepahub.co.uk
SUMMARY:The PA Hub Liverpool Development Event with Adam Fidler
DESCRIPTION:
URL:https://www.thepahub.co.uk/event/the-pa-hub-liverpool-development-event-with-adam-fidler/
CATEGORIES:Liverpool
END:VEVENT
BEGIN:VEVENT
DTSTART;TZID=Europe/London:20161213T180000
DTEND;TZID=Europe/London:20161213T200000
DTSTAMP:20260422T021425
CREATED:20161121T132335Z
LAST-MODIFIED:20161121T132335Z
UID:1781-1481652000-1481659200@www.thepahub.co.uk
SUMMARY:The PA Hub Liverpool Christmas Social Event
DESCRIPTION:
URL:https://www.thepahub.co.uk/event/the-pa-hub-liverpool-christmas-social-event/
CATEGORIES:Liverpool
END:VEVENT
BEGIN:VEVENT
DTSTART;TZID=Europe/London:20161212T180000
DTEND;TZID=Europe/London:20161212T200000
DTSTAMP:20260422T021425
CREATED:20161121T192433Z
LAST-MODIFIED:20161121T192433Z
UID:1784-1481565600-1481572800@www.thepahub.co.uk
SUMMARY:The PA Hub Leeds Christmas Social Event at Clayton Hotel
DESCRIPTION:
URL:https://www.thepahub.co.uk/event/the-pa-hub-leeds-christmas-social-event-at-clayton-hotel/
CATEGORIES:Leeds
END:VEVENT
BEGIN:VEVENT
DTSTART;TZID=Europe/London:20161111T084500
DTEND;TZID=Europe/London:20161111T170000
DTSTAMP:20260422T021425
CREATED:20160924T230055Z
LAST-MODIFIED:20161010T151348Z
UID:1476-1478853900-1478883600@www.thepahub.co.uk
SUMMARY:The PA Hub Conference sponsored by Leeds Bradford Airport
DESCRIPTION:We are delighted to announce our first ever PA Hub Conference\n \nThe Conference will be held on Friday 11th November at DoubleTree by Hilton in Leeds and we proud to have Leeds Bradford Airport as our sponsor. We have a great line up of speakers and all at an affordable price.\nFull details\, speaker line up & registration here …..
URL:https://www.thepahub.co.uk/event/the-pa-hub-conference-sponsored-by-leeds-bradford-airport/
LOCATION:DoubleTree by Hilton Hotel Leeds City Centre\, Granary Wharf\, 2 Wharf Approach\, Leeds\, LS1 4BR\, United Kingdom
CATEGORIES:Leeds,Liverpool,PA Hub Additional Events,York
END:VEVENT
BEGIN:VEVENT
DTSTART;TZID=Europe/London:20161110T180000
DTEND;TZID=Europe/London:20161110T203000
DTSTAMP:20260422T021425
CREATED:20161026T132027Z
LAST-MODIFIED:20161026T132027Z
UID:1715-1478800800-1478809800@www.thepahub.co.uk
SUMMARY:The PA Hub Leeds Development Event with Garth Delikan at University of Leeds
DESCRIPTION:
URL:https://www.thepahub.co.uk/event/the-pa-hub-leeds-development-event-with-garth-delikan-at-university-of-leeds/
CATEGORIES:Leeds
END:VEVENT
BEGIN:VEVENT
DTSTART;TZID=Europe/London:20161109T180000
DTEND;TZID=Europe/London:20161109T203000
DTSTAMP:20260422T021425
CREATED:20161026T021134Z
LAST-MODIFIED:20161026T131344Z
UID:1713-1478714400-1478723400@www.thepahub.co.uk
SUMMARY:The PA Hub York Development Event with Lorna McEwan & Sarah Walker at Monkbar Hotel
DESCRIPTION:
URL:https://www.thepahub.co.uk/event/the-pa-hub-york-development-event-in-association-with-leeds-bradford-airport/
CATEGORIES:York
END:VEVENT
BEGIN:VEVENT
DTSTART;TZID=Europe/London:20161101T180000
DTEND;TZID=Europe/London:20161101T203000
DTSTAMP:20260422T021425
CREATED:20161016T173741Z
LAST-MODIFIED:20161026T131013Z
UID:1694-1478023200-1478032200@www.thepahub.co.uk
SUMMARY:The PA Hub Liverpool Development & 1st Birthday Event with Nick Fewings at Malmaison
DESCRIPTION:
URL:https://www.thepahub.co.uk/event/the-pa-hub-liverpool-development-1st-birthday-event-with-nick-fewings/
CATEGORIES:Liverpool
END:VEVENT
BEGIN:VEVENT
DTSTART;TZID=Europe/London:20161006T180000
DTEND;TZID=Europe/London:20161006T200000
DTSTAMP:20260422T021425
CREATED:20160924T211333Z
LAST-MODIFIED:20160924T211333Z
UID:1462-1475776800-1475784000@www.thepahub.co.uk
SUMMARY:The PA Hub Social Event in Leeds in partnership with Leeds Bradford Airport
DESCRIPTION:
URL:https://www.thepahub.co.uk/event/the-pa-hub-social-event-in-leeds-in-partnership-with-leeds-bradford-airport/
CATEGORIES:Leeds
END:VEVENT
BEGIN:VEVENT
DTSTART;TZID=Europe/London:20161005T180000
DTEND;TZID=Europe/London:20161005T200000
DTSTAMP:20260422T021425
CREATED:20160923T170919Z
LAST-MODIFIED:20160924T113338Z
UID:1438-1475690400-1475697600@www.thepahub.co.uk
SUMMARY:The PA Hub York Social Event at Molton Brown in Partnership with Leeds Bradford Airport
DESCRIPTION:
URL:https://www.thepahub.co.uk/event/the-pa-hub-york-social-event-at-molton-brown-in-partnership-with-leeds-bradford-airport/
CATEGORIES:York
END:VEVENT
BEGIN:VEVENT
DTSTART;TZID=Europe/London:20161004T180000
DTEND;TZID=Europe/London:20161004T200000
DTSTAMP:20260422T021425
CREATED:20160924T223312Z
LAST-MODIFIED:20160924T223312Z
UID:1467-1475604000-1475611200@www.thepahub.co.uk
SUMMARY:The PA Hub Liverpool Social Event at Fazenda Rodizio Bar & Grill
DESCRIPTION:
URL:https://www.thepahub.co.uk/event/the-pa-hub-liverpool-social-event-at-fazenda-rodizio-bar-grill/
CATEGORIES:Liverpool
END:VEVENT
BEGIN:VEVENT
DTSTART;TZID=Europe/London:20160922T180000
DTEND;TZID=Europe/London:20160922T203000
DTSTAMP:20260422T021425
CREATED:20160812T213516Z
LAST-MODIFIED:20160812T213516Z
UID:1402-1474567200-1474576200@www.thepahub.co.uk
SUMMARY:The PA Hub Leeds Development Event with Kerry Dawson
DESCRIPTION:
URL:https://www.thepahub.co.uk/event/the-pa-hub-leeds-development-event-with-kerry-dawson/
LOCATION:Hilton Leeds City\, Neville Street \, Leeds\, LS1 4BX\, United Kingdom
CATEGORIES:Leeds
END:VEVENT
BEGIN:VEVENT
DTSTART;TZID=Europe/London:20160914T180000
DTEND;TZID=Europe/London:20160914T210000
DTSTAMP:20260422T021425
CREATED:20160727T222521Z
LAST-MODIFIED:20160727T230427Z
UID:1363-1473876000-1473886800@www.thepahub.co.uk
SUMMARY:The PA Hub Venue Showcase
DESCRIPTION:See our video of the Spring 2016 Venue Showcase here: \n[youtube id=”XC9GvC6UawA” autoplay=”no”]
URL:https://www.thepahub.co.uk/event/the-pa-hub-venue-showcase-2/
LOCATION:DoubleTree by Hilton Hotel Leeds City Centre\, Granary Wharf\, 2 Wharf Approach\, Leeds\, LS1 4BR\, United Kingdom
CATEGORIES:Leeds,PA Hub Additional Events,York
END:VEVENT
END:VCALENDAR