BEGIN:VCALENDAR
VERSION:2.0
PRODID:-//The PA Hub - ECPv6.15.20//NONSGML v1.0//EN
CALSCALE:GREGORIAN
METHOD:PUBLISH
X-WR-CALNAME:The PA Hub
X-ORIGINAL-URL:https://www.thepahub.co.uk
X-WR-CALDESC:Events for The PA Hub
REFRESH-INTERVAL;VALUE=DURATION:PT1H
X-Robots-Tag:noindex
X-PUBLISHED-TTL:PT1H
BEGIN:VTIMEZONE
TZID:Europe/London
BEGIN:DAYLIGHT
TZOFFSETFROM:+0000
TZOFFSETTO:+0100
TZNAME:BST
DTSTART:20160327T010000
END:DAYLIGHT
BEGIN:STANDARD
TZOFFSETFROM:+0100
TZOFFSETTO:+0000
TZNAME:GMT
DTSTART:20161030T010000
END:STANDARD
BEGIN:DAYLIGHT
TZOFFSETFROM:+0000
TZOFFSETTO:+0100
TZNAME:BST
DTSTART:20170326T010000
END:DAYLIGHT
BEGIN:STANDARD
TZOFFSETFROM:+0100
TZOFFSETTO:+0000
TZNAME:GMT
DTSTART:20171029T010000
END:STANDARD
BEGIN:DAYLIGHT
TZOFFSETFROM:+0000
TZOFFSETTO:+0100
TZNAME:BST
DTSTART:20180325T010000
END:DAYLIGHT
BEGIN:STANDARD
TZOFFSETFROM:+0100
TZOFFSETTO:+0000
TZNAME:GMT
DTSTART:20181028T010000
END:STANDARD
BEGIN:DAYLIGHT
TZOFFSETFROM:+0000
TZOFFSETTO:+0100
TZNAME:BST
DTSTART:20190331T010000
END:DAYLIGHT
BEGIN:STANDARD
TZOFFSETFROM:+0100
TZOFFSETTO:+0000
TZNAME:GMT
DTSTART:20191027T010000
END:STANDARD
BEGIN:DAYLIGHT
TZOFFSETFROM:+0000
TZOFFSETTO:+0100
TZNAME:BST
DTSTART:20200329T010000
END:DAYLIGHT
BEGIN:STANDARD
TZOFFSETFROM:+0100
TZOFFSETTO:+0000
TZNAME:GMT
DTSTART:20201025T010000
END:STANDARD
BEGIN:DAYLIGHT
TZOFFSETFROM:+0000
TZOFFSETTO:+0100
TZNAME:BST
DTSTART:20210328T010000
END:DAYLIGHT
BEGIN:STANDARD
TZOFFSETFROM:+0100
TZOFFSETTO:+0000
TZNAME:GMT
DTSTART:20211031T010000
END:STANDARD
BEGIN:DAYLIGHT
TZOFFSETFROM:+0000
TZOFFSETTO:+0100
TZNAME:BST
DTSTART:20220327T010000
END:DAYLIGHT
BEGIN:STANDARD
TZOFFSETFROM:+0100
TZOFFSETTO:+0000
TZNAME:GMT
DTSTART:20221030T010000
END:STANDARD
END:VTIMEZONE
BEGIN:VEVENT
DTSTART;TZID=Europe/London:20210128T083000
DTEND;TZID=Europe/London:20210128T210000
DTSTAMP:20260421T141537
CREATED:20210108T224005Z
LAST-MODIFIED:20210112T144334Z
UID:8384-1611822600-1611867600@www.thepahub.co.uk
SUMMARY:The PA Hub Online Member Support Group
DESCRIPTION:Join us for chats and discussions at our weekly group meetings. All events are shown in London GMT timezone.
URL:https://www.thepahub.co.uk/event/supportgroup-28012021/
CATEGORIES:Leeds,Liverpool,Online Events
ATTACH;FMTTYPE=image/jpeg:https://www.thepahub.co.uk/wp-content/uploads/2020/12/together-2450081_1920.jpg
LOCATION:
END:VEVENT
BEGIN:VEVENT
DTSTART;TZID=Europe/London:20210120T180000
DTEND;TZID=Europe/London:20210120T183000
DTSTAMP:20260421T141537
CREATED:20210108T222814Z
LAST-MODIFIED:20210108T223414Z
UID:8378-1611165600-1611167400@www.thepahub.co.uk
SUMMARY:The PA Hub Online Member Support Group
DESCRIPTION:Join us for chats and discussions at our weekly group meetings. All events are shown in London GMT timezone.
URL:https://www.thepahub.co.uk/event/supportgroup-20012021/
CATEGORIES:Leeds,Liverpool,Online Events
ATTACH;FMTTYPE=image/png:https://www.thepahub.co.uk/wp-content/uploads/2020/11/group-3354366_1920.png
LOCATION:
END:VEVENT
BEGIN:VEVENT
DTSTART;TZID=Europe/London:20210114T123000
DTEND;TZID=Europe/London:20210114T130000
DTSTAMP:20260421T141537
CREATED:20210108T221840Z
LAST-MODIFIED:20210108T222759Z
UID:8374-1610627400-1610629200@www.thepahub.co.uk
SUMMARY:The PA Hub Online Member Support Group
DESCRIPTION:Join us for chats and discussions at our weekly group meetings. All events are shown in London GMT timezone.
URL:https://www.thepahub.co.uk/event/supportgroup14012021/
CATEGORIES:Leeds,Liverpool,Online Events
ATTACH;FMTTYPE=image/jpeg:https://www.thepahub.co.uk/wp-content/uploads/2021/01/smartphone-1445489_1920.jpg
LOCATION:
END:VEVENT
BEGIN:VEVENT
DTSTART;TZID=Europe/London:20210112T180000
DTEND;TZID=Europe/London:20210112T190000
DTSTAMP:20260421T141537
CREATED:20201206T202537Z
LAST-MODIFIED:20210108T221355Z
UID:8143-1610474400-1610478000@www.thepahub.co.uk
SUMMARY:Digital Event - with Special Guest Speaker Liz Hardwick
DESCRIPTION:Apps for Managing Remote Working Teams – Managing your role and your team online and want to help boost everyone’s productivity? Then join our friends at DigiEnable for this session covering Top Tips and Apps to make that happen.
URL:https://www.thepahub.co.uk/event/digital-liz-hardwick/
CATEGORIES:Leeds,Liverpool,Online Events
ATTACH;FMTTYPE=image/jpeg:https://www.thepahub.co.uk/wp-content/uploads/2019/11/Liz-Hardwick-Headshot-Online-Version-e1574435639615.jpg
LOCATION:https://www.thepahub.co.uk/event/digital-liz-hardwick/
END:VEVENT
BEGIN:VEVENT
DTSTART;TZID=Europe/London:20210107T180000
DTEND;TZID=Europe/London:20210107T183000
DTSTAMP:20260421T141537
CREATED:20201206T151557Z
LAST-MODIFIED:20201206T200831Z
UID:8078-1610042400-1610044200@www.thepahub.co.uk
SUMMARY:The PA Hub Online Member Support Group
DESCRIPTION:Join us for chats and discussions at our weekly group meetings. All events are shown in London GMT timezone.
URL:https://www.thepahub.co.uk/event/supportgroup07012021/
CATEGORIES:Leeds,Liverpool,Online Events
ATTACH;FMTTYPE=image/jpeg:https://www.thepahub.co.uk/wp-content/uploads/2020/11/integration-3527263_1920.jpg
LOCATION:https://www.thepahub.co.uk/event/supportgroup07012021/
END:VEVENT
BEGIN:VEVENT
DTSTART;TZID=Europe/London:20201222T123000
DTEND;TZID=Europe/London:20201222T130000
DTSTAMP:20260421T141537
CREATED:20201206T150242Z
LAST-MODIFIED:20201206T202037Z
UID:8073-1608640200-1608642000@www.thepahub.co.uk
SUMMARY:The PA Hub Online Member Support Group
DESCRIPTION:Join us for our last group chat and discussion of 2020. Hope to see you there! All events are shown in London GMT timezone.
URL:https://www.thepahub.co.uk/event/supportgroup22122020/
CATEGORIES:Leeds,Liverpool,Online Events
ATTACH;FMTTYPE=image/jpeg:https://www.thepahub.co.uk/wp-content/uploads/2020/11/together-2450090_1920.jpg
LOCATION:
END:VEVENT
BEGIN:VEVENT
DTSTART;TZID=Europe/London:20201215T183000
DTEND;TZID=Europe/London:20201215T200000
DTSTAMP:20260421T141537
CREATED:20201206T165230Z
LAST-MODIFIED:20201214T114606Z
UID:8087-1608057000-1608062400@www.thepahub.co.uk
SUMMARY:The PA Hub Festive Party Event
DESCRIPTION:Don’t miss our online festive group party 😀 \nBringing some Christmas cheer to our PA Hub festive event. We want to laugh together and enjoy an event where everyone has the opportunity to join in with other assistants to have some fun and group chats with prizes galore!
URL:https://www.thepahub.co.uk/event/festiveparty2020/
CATEGORIES:Leeds,Liverpool,Online Events
ATTACH;FMTTYPE=image/jpeg:https://www.thepahub.co.uk/wp-content/uploads/2015/10/Beautiful-Christmas-Tree-with-Blue-Desktop-Background1.jpg
LOCATION:https://www.thepahub.co.uk/event/festiveparty2020/
END:VEVENT
BEGIN:VEVENT
DTSTART;TZID=Europe/London:20201210T180000
DTEND;TZID=Europe/London:20201210T190000
DTSTAMP:20260421T141537
CREATED:20201202T171141Z
LAST-MODIFIED:20201206T203948Z
UID:8038-1607623200-1607626800@www.thepahub.co.uk
SUMMARY:Digital Event - with Special Guest Speaker Deborah Ogden
DESCRIPTION:Let’s Get Visible \nRaising our profile and being visible can be challenging at the best of times\, but throw in a global pandemic\, lockdown and working from home can make it feel close to impossible! In this webinar Deborah looks at why visibility is always important and even more so in the current climate.  `
URL:https://www.thepahub.co.uk/event/digital-deborah-ogden/
CATEGORIES:Leeds,Liverpool,Online Events
ATTACH;FMTTYPE=image/jpeg:https://www.thepahub.co.uk/wp-content/uploads/2020/12/Deborah-Ogden-scaled-e1607283877942.jpeg
LOCATION:https://www.thepahub.co.uk/event/digital-deborah-ogden/
END:VEVENT
BEGIN:VEVENT
DTSTART;TZID=Europe/London:20201208T123000
DTEND;TZID=Europe/London:20201208T130000
DTSTAMP:20260421T141537
CREATED:20201202T160108Z
LAST-MODIFIED:20201202T170015Z
UID:8033-1607430600-1607432400@www.thepahub.co.uk
SUMMARY:The PA Hub Online Member Support Group
DESCRIPTION:Join us for chats and discussions at our weekly group meetings. All events are shown in London GMT timezone.
URL:https://www.thepahub.co.uk/event/supportgroup08122020/
CATEGORIES:Leeds,Liverpool,Online Events
ATTACH;FMTTYPE=image/jpeg:https://www.thepahub.co.uk/wp-content/uploads/2020/11/smartphone-1445489_1920.jpg
LOCATION:
END:VEVENT
BEGIN:VEVENT
DTSTART;TZID=Europe/London:20201202T083000
DTEND;TZID=Europe/London:20201202T090000
DTSTAMP:20260421T141537
CREATED:20201113T082640Z
LAST-MODIFIED:20201113T105457Z
UID:7881-1606897800-1606899600@www.thepahub.co.uk
SUMMARY:The PA Hub Online Member Support Group
DESCRIPTION:Join us for chats and discussions at our weekly group meetings. All events are shown in London GMT timezone.
URL:https://www.thepahub.co.uk/event/supportgroup3/
CATEGORIES:Leeds,Liverpool,Online Events
ATTACH;FMTTYPE=image/png:https://www.thepahub.co.uk/wp-content/uploads/2020/11/group-3354366_1920.png
LOCATION:https://www.thepahub.co.uk/event/supportgroup3/
END:VEVENT
BEGIN:VEVENT
DTSTART;TZID=Europe/London:20201126T123000
DTEND;TZID=Europe/London:20201126T130000
DTSTAMP:20260421T141537
CREATED:20201113T080440Z
LAST-MODIFIED:20201113T081247Z
UID:7877-1606393800-1606395600@www.thepahub.co.uk
SUMMARY:The PA Hub Online Member Support Group
DESCRIPTION:Join us for chats and discussions at our weekly group meetings. All events are shown in London GMT timezone.
URL:https://www.thepahub.co.uk/event/the-pa-hub-online-member-support-group-copy/
CATEGORIES:Leeds,Liverpool,Online Events
ATTACH;FMTTYPE=image/jpeg:https://www.thepahub.co.uk/wp-content/uploads/2020/11/integration-3527263_1920.jpg
LOCATION:https://www.thepahub.co.uk/event/the-pa-hub-online-member-support-group-copy/
END:VEVENT
BEGIN:VEVENT
DTSTART;TZID=Europe/London:20201119T180000
DTEND;TZID=Europe/London:20201119T183000
DTSTAMP:20260421T141537
CREATED:20201113T075639Z
LAST-MODIFIED:20201118T222955Z
UID:7850-1605808800-1605810600@www.thepahub.co.uk
SUMMARY:The PA Hub Online Member Support Group
DESCRIPTION:Join us for chats and discussions at our weekly group meetings. All events are shown in London GMT timezone.
URL:https://www.thepahub.co.uk/event/the-pa-hub-online-member-support-group/
CATEGORIES:Leeds,Liverpool,Online Events
ATTACH;FMTTYPE=image/jpeg:https://www.thepahub.co.uk/wp-content/uploads/2020/11/smartphone-1445489_1920.jpg
LOCATION:https://www.thepahub.co.uk/event/the-pa-hub-online-member-support-group/
END:VEVENT
BEGIN:VEVENT
DTSTART;TZID=Europe/London:20201027T123000
DTEND;TZID=Europe/London:20201027T133000
DTSTAMP:20260421T141537
CREATED:20200901T112500Z
LAST-MODIFIED:20201027T141138Z
UID:7520-1603801800-1603805400@www.thepahub.co.uk
SUMMARY:Digital Event - with Special Guest Speaker Sam Cox
DESCRIPTION:What is it like to be the Former Executive Assistant to Sir Richard Branson? What is it like to work on the exclusive Necker Island? How do you multi manage a huge number of tasks and keep on track? Learn why it is important to break that comfort zone and find the magic behind! \nFind out all the answers at the next PA Hub digital event where Marion and Jon will interview Sam Cox\, Former Executive Assistant to Sir Richard Branson.
URL:https://www.thepahub.co.uk/event/digital-sam-cox/
CATEGORIES:Leeds,Liverpool,Online Events
ATTACH;FMTTYPE=image/jpeg:https://www.thepahub.co.uk/wp-content/uploads/2020/10/IMG_2096.jpg
LOCATION:https://www.thepahub.co.uk/event/digital-sam-cox/
END:VEVENT
BEGIN:VEVENT
DTSTART;TZID=Europe/London:20200821T160000
DTEND;TZID=Europe/London:20200821T171500
DTSTAMP:20260421T141537
CREATED:20200817T115156Z
LAST-MODIFIED:20200909T141233Z
UID:7346-1598025600-1598030100@www.thepahub.co.uk
SUMMARY:Digital Development Event - with Special Guest Speaker Andy McMenemy
DESCRIPTION:Your emotional wellbeing is so important. Andy teaches people to bounce forward\, build resilience\, be positive and be pro-active. As a psychotherapist Andy uses positive psychology to help emotional wellbeing and has solutions to improve your coping strategies. \n 
URL:https://www.thepahub.co.uk/event/digital-andy-mcmenemy/
CATEGORIES:Leeds,Liverpool,Online Events
ATTACH;FMTTYPE=image/jpeg:https://www.thepahub.co.uk/wp-content/uploads/2020/08/Andy-M-5444-Copy.jpg
LOCATION:https://www.thepahub.co.uk/event/digital-andy-mcmenemy/
END:VEVENT
BEGIN:VEVENT
DTSTART;TZID=Europe/London:20200730T180000
DTEND;TZID=Europe/London:20200730T191500
DTSTAMP:20260421T141537
CREATED:20200629T201351Z
LAST-MODIFIED:20200730T141723Z
UID:7116-1596132000-1596136500@www.thepahub.co.uk
SUMMARY:Digital Launch Event - with Special Guest Speaker Ann Hiatt
DESCRIPTION:How to Survive\, Revive and Thrive Professionally in a Crisis with Ann Hiatt\, Former Executive Business Partner to Jeff Bezos (CEO of Amazon) and Chief-of-Staff to Eric Schmidt (CEO and Executive Chairman at Google/Alphabet).
URL:https://www.thepahub.co.uk/event/digital-ann-hiatt/
CATEGORIES:Leeds,Liverpool,Online Events
ATTACH;FMTTYPE=image/jpeg:https://www.thepahub.co.uk/wp-content/uploads/2020/06/StudioHeadshotChair-e1593472169774.jpeg
LOCATION:https://www.thepahub.co.uk/event/digital-ann-hiatt/
END:VEVENT
BEGIN:VEVENT
DTSTART;TZID=Europe/London:20200630T180000
DTEND;TZID=Europe/London:20200630T190000
DTSTAMP:20260421T141537
CREATED:20200628T183913Z
LAST-MODIFIED:20200628T191444Z
UID:7084-1593540000-1593543600@www.thepahub.co.uk
SUMMARY:Membership Zoom Meeting
DESCRIPTION:Members only event with Q & A with Marion and Jon about the new membership. \nSend any questions to Marion marion@thepahub.co.uk in advance or bring your questions on the night. \nShare a coffee or a glass of wine with your fellow members and have a catch up too! \nOnce you have sent your RSVP you will receive your confirmation with the zoom link in it and join us on Tuesday at 6pm. \n  \n  \n 
URL:https://www.thepahub.co.uk/event/membership-zoom-meeting/
CATEGORIES:Leeds,Liverpool,Online Events
ATTACH;FMTTYPE=image/png:https://www.thepahub.co.uk/wp-content/uploads/2020/06/q-a-2453534_1280-1.png
LOCATION:https://www.thepahub.co.uk/event/membership-zoom-meeting/
END:VEVENT
BEGIN:VEVENT
DTSTART;TZID=Europe/London:20200625T173000
DTEND;TZID=Europe/London:20200625T183000
DTSTAMP:20260421T141537
CREATED:20200608T235650Z
LAST-MODIFIED:20200825T162848Z
UID:6793-1593106200-1593109800@www.thepahub.co.uk
SUMMARY:Digital Event - Digital Detox
DESCRIPTION:A guide to putting down your phone and embracing the joy of missing out to #recharge
URL:https://www.thepahub.co.uk/event/simonmccaskill/
CATEGORIES:Leeds,Liverpool,Online Events
ATTACH;FMTTYPE=image/jpeg:https://www.thepahub.co.uk/wp-content/uploads/2020/06/Simon-McCaskill-Headshot.jpg
END:VEVENT
BEGIN:VEVENT
DTSTART;TZID=Europe/London:20200623T160000
DTEND;TZID=Europe/London:20200623T170000
DTSTAMP:20260421T141537
CREATED:20200509T185605Z
LAST-MODIFIED:20200616T152844Z
UID:6342-1592928000-1592931600@www.thepahub.co.uk
SUMMARY:FREE Digital Event - Zoom Tutorial
DESCRIPTION:A Guide to Using Zoom with Heather Wright.
URL:https://www.thepahub.co.uk/event/heatherwright/
CATEGORIES:Leeds,Liverpool,Online Events
ATTACH;FMTTYPE=image/jpeg:https://www.thepahub.co.uk/wp-content/uploads/2020/05/HVW-Grinning-headshot-1.jpg
END:VEVENT
BEGIN:VEVENT
DTSTART;TZID=Europe/London:20200611T173000
DTEND;TZID=Europe/London:20200611T183000
DTSTAMP:20260421T141537
CREATED:20200612T205618Z
LAST-MODIFIED:20200616T135653Z
UID:7015-1591896600-1591900200@www.thepahub.co.uk
SUMMARY:FREE Digital Event - Building Resilience
DESCRIPTION:A guide to having a process for building your resilience with Heather Wright.
URL:https://www.thepahub.co.uk/event/free-online-pa-hub-development-event-copy/
CATEGORIES:Leeds,Liverpool,Online Events
ATTACH;FMTTYPE=image/jpeg:https://www.thepahub.co.uk/wp-content/uploads/2020/05/HVW-Grinning-headshot-e1592321095545.jpg
END:VEVENT
BEGIN:VEVENT
DTSTART;TZID=Europe/London:20190905T173000
DTEND;TZID=Europe/London:20190905T203000
DTSTAMP:20260421T141537
CREATED:20190114T131154Z
LAST-MODIFIED:20190513T141504Z
UID:4671-1567704600-1567715400@www.thepahub.co.uk
SUMMARY:The PA Hub Leeds Christmas Showcase at The Met Hotel
DESCRIPTION:
URL:https://www.thepahub.co.uk/event/the-pa-hub-leeds-christmas-showcase-2/
CATEGORIES:Leeds,PA Hub Additional Events
END:VEVENT
BEGIN:VEVENT
DTSTART;TZID=Europe/London:20180517T180000
DTEND;TZID=Europe/London:20180517T200000
DTSTAMP:20260421T141537
CREATED:20180103T183040Z
LAST-MODIFIED:20180222T121153Z
UID:3395-1526580000-1526587200@www.thepahub.co.uk
SUMMARY:The PA Hub Liverpool Social and Pre-Conference Event at Gino D'Acampo My Restaurant Liverpool
DESCRIPTION:
URL:https://www.thepahub.co.uk/event/the-pa-hub-liverpool-social-and-pre-conference-event/
CATEGORIES:Liverpool
END:VEVENT
BEGIN:VEVENT
DTSTART;TZID=Europe/London:20180308T180000
DTEND;TZID=Europe/London:20180308T210000
DTSTAMP:20260421T141537
CREATED:20180103T182218Z
LAST-MODIFIED:20180112T150859Z
UID:3384-1520532000-1520542800@www.thepahub.co.uk
SUMMARY:The PA Hub Venue & Travel Showcase Leeds at Leeds Marriott Hotel (Free for PAs)
DESCRIPTION:
URL:https://www.thepahub.co.uk/event/the-pa-hub-venue-travel-showcase-leeds-at-leeds-marriott-hotel/
CATEGORIES:Leeds,PA Hub Additional Events
END:VEVENT
BEGIN:VEVENT
DTSTART;TZID=Europe/London:20180306T180000
DTEND;TZID=Europe/London:20180306T210000
DTSTAMP:20260421T141537
CREATED:20180103T183640Z
LAST-MODIFIED:20180112T150951Z
UID:3409-1520359200-1520370000@www.thepahub.co.uk
SUMMARY:The PA Hub Venue Showcase Liverpool at Liverpool Marriott Hotel City Centre (Free for PAs)
DESCRIPTION:
URL:https://www.thepahub.co.uk/event/the-pa-hub-venue-showcase-liverpool-at-the-marriott-liverpool/
CATEGORIES:Liverpool,PA Hub Additional Events
END:VEVENT
BEGIN:VEVENT
DTSTART;TZID=Europe/London:20170525T180000
DTEND;TZID=Europe/London:20170525T200000
DTSTAMP:20260421T141537
CREATED:20170412T145710Z
LAST-MODIFIED:20170502T071908Z
UID:2333-1495735200-1495742400@www.thepahub.co.uk
SUMMARY:The PA Hub Leeds Social Event at Victoria Gate Casino
DESCRIPTION:
URL:https://www.thepahub.co.uk/event/the-pa-hub-social-leeds-at-victoria-gate-casino/
CATEGORIES:Leeds
END:VEVENT
BEGIN:VEVENT
DTSTART;TZID=Europe/London:20170519T083000
DTEND;TZID=Europe/London:20170519T170000
DTSTAMP:20260421T141537
CREATED:20170501T162845Z
LAST-MODIFIED:20170501T163152Z
UID:2477-1495182600-1495213200@www.thepahub.co.uk
SUMMARY:The PA Hub Conference Liverpool #PA17LIV
DESCRIPTION:We are bringing The PA Hub Conference to Liverpool for the first time and we have an excellent line up of speakers to help you in your day to day role as an assistant. \nWe have a full day of learning and development as well as the opportunity to meet exhibitors and network with PA peers. The aim of the day is to offer up-skilling and training for PAs to help you develop in the ever-changing role of the modern assistant. \nSEE FULL CONFERENCE DETAILS HERE\nConference attendees can also attend The PA Hub Pre-Conference Social Event the evening before on Thursday 18 May\, 18:00 – 20:00 at Neighbourhood in Liverpool. See further details and how to book your place for this PA event here: Neighbourhood Event.
URL:https://www.thepahub.co.uk/event/the-pa-hub-conference-liverpool-pa17liv/
LOCATION:Malmaison Liverpool\, 7 William Jessop Way\, Liverpool\, Merseyside\, L3 1QZ
CATEGORIES:Leeds,Liverpool,PA Hub Additional Events,York
END:VEVENT
BEGIN:VEVENT
DTSTART;TZID=Europe/London:20170518T180000
DTEND;TZID=Europe/London:20170518T200000
DTSTAMP:20260421T141537
CREATED:20170405T173206Z
LAST-MODIFIED:20170405T173836Z
UID:2205-1495130400-1495137600@www.thepahub.co.uk
SUMMARY:The PA Hub Liverpool Social & Pre-Conference Event at Neighbourhood Eatery & Late Bar
DESCRIPTION:
URL:https://www.thepahub.co.uk/event/the-pa-hub-liverpool-social-pre-conference-event-at-neighbourhood-eatery-late-bar/
CATEGORIES:Leeds,Liverpool,PA Hub Additional Events,York
END:VEVENT
BEGIN:VEVENT
DTSTART;TZID=Europe/London:20170503T180000
DTEND;TZID=Europe/London:20170503T210000
DTSTAMP:20260421T141537
CREATED:20170126T002618Z
LAST-MODIFIED:20170302T231524Z
UID:1953-1493834400-1493845200@www.thepahub.co.uk
SUMMARY:The PA Hub Venue Showcase at The Rose Bowl\, Leeds
DESCRIPTION:
URL:https://www.thepahub.co.uk/event/the-pa-hub-venue-showcase-leeds/
CATEGORIES:Leeds,PA Hub Additional Events,York
END:VEVENT
BEGIN:VEVENT
DTSTART;TZID=Europe/London:20170328T180000
DTEND;TZID=Europe/London:20170328T210000
DTSTAMP:20260421T141537
CREATED:20170125T124628Z
LAST-MODIFIED:20170302T231737Z
UID:1943-1490724000-1490734800@www.thepahub.co.uk
SUMMARY:The PA Hub Venue Showcase at Ziferblat St Paul's Square\, Liverpool
DESCRIPTION:
URL:https://www.thepahub.co.uk/event/the-pa-hub-venue-showcase-liverpool-vsc17liv/
CATEGORIES:Liverpool,PA Hub Additional Events
END:VEVENT
BEGIN:VEVENT
DTSTART;TZID=Europe/London:20170323T180000
DTEND;TZID=Europe/London:20170323T203000
DTSTAMP:20260421T141537
CREATED:20170126T110211Z
LAST-MODIFIED:20170126T110211Z
UID:1976-1490292000-1490301000@www.thepahub.co.uk
SUMMARY:The PA Hub Leeds Development Event at Malmaison with Guest Speaker Melanie Richardson
DESCRIPTION:
URL:https://www.thepahub.co.uk/event/the-pa-hub-leeds-development-event-at-malmaison-with-guest-speaker-melanie-richardson/
CATEGORIES:Leeds
END:VEVENT
BEGIN:VEVENT
DTSTART;TZID=Europe/London:20170322T180000
DTEND;TZID=Europe/London:20170322T203000
DTSTAMP:20260421T141537
CREATED:20170126T114700Z
LAST-MODIFIED:20170126T114700Z
UID:1978-1490205600-1490214600@www.thepahub.co.uk
SUMMARY:The PA Hub York Development Event at Bettys with Guest Speaker Melanie Richardson
DESCRIPTION:
URL:https://www.thepahub.co.uk/event/the-pa-hub-york-development-event-at-bettys-with-guest-speaker-melanie-richardson/
CATEGORIES:York
END:VEVENT
END:VCALENDAR