BEGIN:VCALENDAR
VERSION:2.0
PRODID:-//The PA Hub - ECPv6.15.20//NONSGML v1.0//EN
CALSCALE:GREGORIAN
METHOD:PUBLISH
X-ORIGINAL-URL:https://www.thepahub.co.uk
X-WR-CALDESC:Events for The PA Hub
REFRESH-INTERVAL;VALUE=DURATION:PT1H
X-Robots-Tag:noindex
X-PUBLISHED-TTL:PT1H
BEGIN:VTIMEZONE
TZID:Europe/London
BEGIN:DAYLIGHT
TZOFFSETFROM:+0000
TZOFFSETTO:+0100
TZNAME:BST
DTSTART:20200329T010000
END:DAYLIGHT
BEGIN:STANDARD
TZOFFSETFROM:+0100
TZOFFSETTO:+0000
TZNAME:GMT
DTSTART:20201025T010000
END:STANDARD
BEGIN:DAYLIGHT
TZOFFSETFROM:+0000
TZOFFSETTO:+0100
TZNAME:BST
DTSTART:20210328T010000
END:DAYLIGHT
BEGIN:STANDARD
TZOFFSETFROM:+0100
TZOFFSETTO:+0000
TZNAME:GMT
DTSTART:20211031T010000
END:STANDARD
BEGIN:DAYLIGHT
TZOFFSETFROM:+0000
TZOFFSETTO:+0100
TZNAME:BST
DTSTART:20220327T010000
END:DAYLIGHT
BEGIN:STANDARD
TZOFFSETFROM:+0100
TZOFFSETTO:+0000
TZNAME:GMT
DTSTART:20221030T010000
END:STANDARD
END:VTIMEZONE
BEGIN:VEVENT
DTSTART;TZID=Europe/London:20210202T123000
DTEND;TZID=Europe/London:20210202T130000
DTSTAMP:20260421T124705
CREATED:20210127T205550Z
LAST-MODIFIED:20210127T210923Z
UID:8475-1612269000-1612270800@www.thepahub.co.uk
SUMMARY:The PA Hub Online Member Support Group
DESCRIPTION:Join us for chats and discussions at our weekly group meetings. All events are shown in London GMT timezone.
URL:https://www.thepahub.co.uk/event/supportgroup-02022021/
CATEGORIES:Leeds,Liverpool,Online Events
ATTACH;FMTTYPE=image/png:https://www.thepahub.co.uk/wp-content/uploads/2020/11/group-3354366_1920.png
LOCATION:
END:VEVENT
BEGIN:VEVENT
DTSTART;TZID=Europe/London:20210204T180000
DTEND;TZID=Europe/London:20210204T190000
DTSTAMP:20260421T124705
CREATED:20210108T213533Z
LAST-MODIFIED:20210205T071014Z
UID:8357-1612461600-1612465200@www.thepahub.co.uk
SUMMARY:Digital Event - with Special Guest Speaker Sue Evans
DESCRIPTION:Skills to Keep Stress Useful – You know those days which get off to a bad start and never seem to recover?  Perhaps the sinking feeling as you open your overflowing inbox\, or the prospect of yet another meeting that you’d rather not have taking up your time. It’s draining.
URL:https://www.thepahub.co.uk/event/digital-sue-evans/
CATEGORIES:Leeds,Liverpool,Online Events
ATTACH;FMTTYPE=image/jpeg:https://www.thepahub.co.uk/wp-content/uploads/2021/01/Sue-Evans-scaled.jpg
LOCATION:
END:VEVENT
BEGIN:VEVENT
DTSTART;TZID=Europe/London:20210211T180000
DTEND;TZID=Europe/London:20210211T183000
DTSTAMP:20260421T124705
CREATED:20210108T231046Z
LAST-MODIFIED:20210127T211701Z
UID:8388-1613066400-1613068200@www.thepahub.co.uk
SUMMARY:The PA Hub Online Member Support Group
DESCRIPTION:Join us for chats and discussions at our weekly group meetings. All events are shown in London GMT timezone.
URL:https://www.thepahub.co.uk/event/supportgroup-11022021/
CATEGORIES:Leeds,Liverpool,Online Events
ATTACH;FMTTYPE=image/jpeg:https://www.thepahub.co.uk/wp-content/uploads/2020/11/together-2450090_1920.jpg
LOCATION:
END:VEVENT
BEGIN:VEVENT
DTSTART;TZID=Europe/London:20210216T083000
DTEND;TZID=Europe/London:20210216T090000
DTSTAMP:20260421T124705
CREATED:20210127T212049Z
LAST-MODIFIED:20210127T213151Z
UID:8485-1613464200-1613466000@www.thepahub.co.uk
SUMMARY:The PA Hub Online Member Support Group
DESCRIPTION:Join us for chats and discussions at our weekly group meetings. All events are shown in London GMT timezone.
URL:https://www.thepahub.co.uk/event/supportgroup-16022021/
CATEGORIES:Leeds,Liverpool,Online Events
ATTACH;FMTTYPE=image/png:https://www.thepahub.co.uk/wp-content/uploads/2021/01/balloon-381334_1280.png
LOCATION:
END:VEVENT
BEGIN:VEVENT
DTSTART;TZID=Europe/London:20210225T123000
DTEND;TZID=Europe/London:20210225T130000
DTSTAMP:20260421T124705
CREATED:20210127T203916Z
LAST-MODIFIED:20210128T162034Z
UID:8469-1614256200-1614258000@www.thepahub.co.uk
SUMMARY:The PA Hub Online Member Support Group
DESCRIPTION:Join us for chats and discussions at our weekly group meetings. All events are shown in London GMT timezone.
URL:https://www.thepahub.co.uk/event/supportgroup-25022021/
CATEGORIES:Leeds,Liverpool,Online Events
ATTACH;FMTTYPE=image/png:https://www.thepahub.co.uk/wp-content/uploads/2020/11/social-media-2457842_640.png
LOCATION:
END:VEVENT
BEGIN:VEVENT
DTSTART;TZID=Europe/London:20210304T180000
DTEND;TZID=Europe/London:20210304T183000
DTSTAMP:20260421T124705
CREATED:20210127T214359Z
LAST-MODIFIED:20210228T144253Z
UID:8490-1614880800-1614882600@www.thepahub.co.uk
SUMMARY:The PA Hub Online Member Support Group
DESCRIPTION:Join us for chats and discussions at our weekly group meetings. All events are shown in London GMT timezone.
URL:https://www.thepahub.co.uk/event/supportgroup-04032021/
CATEGORIES:Leeds,Liverpool,Online Events
ATTACH;FMTTYPE=image/jpeg:https://www.thepahub.co.uk/wp-content/uploads/2021/01/coffee-1076582_1920.jpg
LOCATION:https://www.thepahub.co.uk/event/supportgroup-04032021/
END:VEVENT
BEGIN:VEVENT
DTSTART;TZID=Europe/London:20210309T180000
DTEND;TZID=Europe/London:20210309T190000
DTSTAMP:20260421T124705
CREATED:20210127T215301Z
LAST-MODIFIED:20210309T140859Z
UID:8494-1615312800-1615316400@www.thepahub.co.uk
SUMMARY:Digital Event - with Special Guest Speaker Lucy Brazier
DESCRIPTION:Exclusive Interview with Lucy Brazier\, CEO Marcham Publishing\, Publishers of Executive Secretary Magazine.
URL:https://www.thepahub.co.uk/event/digital-event-with-special-guest-speaker-lucy-brazier/
CATEGORIES:Leeds,Liverpool,Online Events
ATTACH;FMTTYPE=image/jpeg:https://www.thepahub.co.uk/wp-content/uploads/2018/08/Lucy-Brazier-e1614528163824.jpg
LOCATION:
END:VEVENT
BEGIN:VEVENT
DTSTART;TZID=Europe/London:20210311T123000
DTEND;TZID=Europe/London:20210311T130000
DTSTAMP:20260421T124705
CREATED:20210228T131058Z
LAST-MODIFIED:20210228T144517Z
UID:8725-1615465800-1615467600@www.thepahub.co.uk
SUMMARY:The PA Hub Online Member Support Group
DESCRIPTION:Join us for chats and discussions at our weekly group meetings. All events are shown in London GMT timezone.
URL:https://www.thepahub.co.uk/event/supportgroup-11032021/
CATEGORIES:Leeds,Liverpool,Online Events
ATTACH;FMTTYPE=image/png:https://www.thepahub.co.uk/wp-content/uploads/2020/11/group-3354366_1920.png
LOCATION:https://www.thepahub.co.uk/event/supportgroup-11032021/
END:VEVENT
BEGIN:VEVENT
DTSTART;TZID=Europe/London:20210316T083000
DTEND;TZID=Europe/London:20210316T090000
DTSTAMP:20260421T124705
CREATED:20210228T170638Z
LAST-MODIFIED:20210311T160728Z
UID:8765-1615883400-1615885200@www.thepahub.co.uk
SUMMARY:The PA Hub Online Member Support Group
DESCRIPTION:Join us for chats and discussions at our weekly group meetings. All events are shown in London GMT timezone.
URL:https://www.thepahub.co.uk/event/supportgroup-16032021/
CATEGORIES:Leeds,Liverpool,Online Events
ATTACH;FMTTYPE=image/jpeg:https://www.thepahub.co.uk/wp-content/uploads/2021/02/laptop-336378_1920.jpg
LOCATION:https://www.thepahub.co.uk/event/supportgroup-16032021/
END:VEVENT
BEGIN:VEVENT
DTSTART;TZID=Europe/London:20210325T180000
DTEND;TZID=Europe/London:20210325T183000
DTSTAMP:20260421T124705
CREATED:20210228T190638Z
LAST-MODIFIED:20210311T161036Z
UID:8784-1616695200-1616697000@www.thepahub.co.uk
SUMMARY:The PA Hub Online Member Support Group
DESCRIPTION:Join us for chats and discussions at our weekly group meetings. All events are shown in London GMT timezone.
URL:https://www.thepahub.co.uk/event/supportgroup-25032021/
CATEGORIES:Leeds,Liverpool,Online Events
ATTACH;FMTTYPE=image/jpeg:https://www.thepahub.co.uk/wp-content/uploads/2021/02/cup-of-coffee-1280537_1920.jpg
LOCATION:https://www.thepahub.co.uk/event/supportgroup-25032021/
END:VEVENT
BEGIN:VEVENT
DTSTART;TZID=Europe/London:20210408T123000
DTEND;TZID=Europe/London:20210408T130000
DTSTAMP:20260421T124705
CREATED:20210228T191349Z
LAST-MODIFIED:20210311T161313Z
UID:8788-1617885000-1617886800@www.thepahub.co.uk
SUMMARY:The PA Hub Online Member Support Group
DESCRIPTION:Join us for chats and discussions at our twice monthly group meetings. All events are shown in London GMT timezone.
URL:https://www.thepahub.co.uk/event/supportgroup-08042021/
CATEGORIES:Leeds,Liverpool,Online Events
ATTACH;FMTTYPE=image/jpeg:https://www.thepahub.co.uk/wp-content/uploads/2020/07/Key-image.jpg
LOCATION:https://www.thepahub.co.uk/event/supportgroup-08042021/
END:VEVENT
BEGIN:VEVENT
DTSTART;TZID=Europe/London:20210415T180000
DTEND;TZID=Europe/London:20210415T190000
DTSTAMP:20260421T124705
CREATED:20210228T201005Z
LAST-MODIFIED:20210407T183813Z
UID:8793-1618509600-1618513200@www.thepahub.co.uk
SUMMARY:Wellness & Mindfulness Digital Event - Dealing with Stress
DESCRIPTION:Join us for our 1st in a series of bi-monthly wellness and mindfulness events designed for our members with Lucile Allen-Paisant at Mind It Ltd. \nWe are so excited to announce this new partnership with Lucile who has a wealth of knowledge around Wellness and Mindfulness to share with us over the next 12 months.
URL:https://www.thepahub.co.uk/event/wellness-and-mindfulness-digital-event/
CATEGORIES:Leeds,Liverpool,Online Events
ATTACH;FMTTYPE=image/jpeg:https://www.thepahub.co.uk/wp-content/uploads/2021/02/Lucile-Talk-Square-scaled.jpg
LOCATION:https://www.thepahub.co.uk/event/wellness-and-mindfulness-digital-event/
END:VEVENT
BEGIN:VEVENT
DTSTART;TZID=Europe/London:20210506T123000
DTEND;TZID=Europe/London:20210506T130000
DTSTAMP:20260421T124705
CREATED:20210228T205623Z
LAST-MODIFIED:20210430T104515Z
UID:8805-1620304200-1620306000@www.thepahub.co.uk
SUMMARY:Online Member Support Group - Topic is follow-up from Mentor Session
DESCRIPTION:Join us for chats and discussion at our twice monthly group meetings. \nThis week’s topic follows on from our previous mentorship discussion and we have a new idea to discuss with members.  Join us to see what it is all about! \nAll events are shown in London BST timezone. \n 
URL:https://www.thepahub.co.uk/event/supportgroup-06052021/
CATEGORIES:Leeds,Liverpool,Online Events
ATTACH;FMTTYPE=image/jpeg:https://www.thepahub.co.uk/wp-content/uploads/2020/11/together-2450090_1920.jpg
LOCATION:https://www.thepahub.co.uk/event/supportgroup-06052021/
END:VEVENT
BEGIN:VEVENT
DTSTART;TZID=Europe/London:20210518T180000
DTEND;TZID=Europe/London:20210518T190000
DTSTAMP:20260421T124705
CREATED:20210228T213749Z
LAST-MODIFIED:20240618T125711Z
UID:8822-1621360800-1621364400@www.thepahub.co.uk
SUMMARY:Digital Development Event with Special Guest Speaker Steve Judge
DESCRIPTION:Introduction to Elite Athlete Steve Judge – Author\, Two Times World Champion and Multi Award Winning International Speaker
URL:https://www.thepahub.co.uk/event/steve-judge-development/
CATEGORIES:Leeds,Liverpool,Online Events
ATTACH;FMTTYPE=image/jpeg:https://www.thepahub.co.uk/wp-content/uploads/2021/02/DSC_7413-scaled.jpg
LOCATION:https://www.thepahub.co.uk/event/steve-judge-development/
END:VEVENT
BEGIN:VEVENT
DTSTART;TZID=Europe/London:20210527T180000
DTEND;TZID=Europe/London:20210527T183000
DTSTAMP:20260421T124705
CREATED:20210228T212612Z
LAST-MODIFIED:20210519T134722Z
UID:8816-1622138400-1622140200@www.thepahub.co.uk
SUMMARY:The PA Hub Online Member Support Group
DESCRIPTION:Join us for chats and discussions at our twice monthly group meetings. All events are shown in London GMT timezone. \nThis is a support group discussion around redundancy – have you been made redundant and looking for work or have you found a new role recently and can give advice – please join the group to gain and give support to one another.
URL:https://www.thepahub.co.uk/event/supportgroup-27052021/
CATEGORIES:Leeds,Liverpool,Online Events
ATTACH;FMTTYPE=image/jpeg:https://www.thepahub.co.uk/wp-content/uploads/2020/11/smartphone-1445489_1920.jpg
LOCATION:https://www.thepahub.co.uk/event/supportgroup-27052021/
END:VEVENT
BEGIN:VEVENT
DTSTART;TZID=Europe/London:20210616T123000
DTEND;TZID=Europe/London:20210616T130000
DTSTAMP:20260421T124705
CREATED:20210610T114517Z
LAST-MODIFIED:20210610T142732Z
UID:9972-1623846600-1623848400@www.thepahub.co.uk
SUMMARY:The PA Hub Online Member Support Group
DESCRIPTION:TOPIC – NETWORKING\nJoin us for chats and discussions at our twice monthly group meetings.
URL:https://www.thepahub.co.uk/event/supportgroup16062021/
CATEGORIES:Leeds,Liverpool,Online Events
ATTACH;FMTTYPE=image/png:https://www.thepahub.co.uk/wp-content/uploads/2020/11/group-3354366_1920.png
LOCATION:https://www.thepahub.co.uk/event/supportgroup16062021/
END:VEVENT
BEGIN:VEVENT
DTSTART;TZID=Europe/London:20210617T180000
DTEND;TZID=Europe/London:20210617T190000
DTSTAMP:20260421T124705
CREATED:20210512T222337Z
LAST-MODIFIED:20210614T180043Z
UID:9783-1623952800-1623956400@www.thepahub.co.uk
SUMMARY:Wellness & Mindfulness Digital Event - Remaining Productive in Uncertain Times
DESCRIPTION:Join us for our 2nd in a series of bi-monthly wellness and mindfulness events designed for our members with Zoe Thompson from Mind It Ltd.
URL:https://www.thepahub.co.uk/event/wellness-digital-event-17062021/
CATEGORIES:Leeds,Liverpool,Online Events
ATTACH;FMTTYPE=image/jpeg:https://www.thepahub.co.uk/wp-content/uploads/2021/04/Mind-It.jpg
LOCATION:https://www.thepahub.co.uk/event/wellness-digital-event-17062021/
END:VEVENT
BEGIN:VEVENT
DTSTART;TZID=Europe/London:20210629T180000
DTEND;TZID=Europe/London:20210629T183000
DTSTAMP:20260421T124705
CREATED:20210610T135218Z
LAST-MODIFIED:20210626T231716Z
UID:9995-1624989600-1624991400@www.thepahub.co.uk
SUMMARY:The PA Hub Online Member Support Group
DESCRIPTION:TOPIC – LINKEDIN\nJoin us for chats and discussions at our twice monthly group meetings.
URL:https://www.thepahub.co.uk/event/supportgroup29062021/
CATEGORIES:Leeds,Liverpool,Online Events
ATTACH;FMTTYPE=image/jpeg:https://www.thepahub.co.uk/wp-content/uploads/2021/02/coffee-2306471_1920.jpg
LOCATION:https://www.thepahub.co.uk/event/supportgroup29062021/
END:VEVENT
BEGIN:VEVENT
DTSTART;TZID=Europe/London:20210701T180000
DTEND;TZID=Europe/London:20210701T200000
DTSTAMP:20260421T124705
CREATED:20210512T212338Z
LAST-MODIFIED:20210701T120315Z
UID:9750-1625162400-1625169600@www.thepahub.co.uk
SUMMARY:Leeds Social Event at Gino D’Acampo\, My Restaurant\, Leeds
DESCRIPTION:WE ARE BACK! Join us for our welcome back event in Leeds.
URL:https://www.thepahub.co.uk/event/leeds-social-event-gino/
LOCATION:Gino D’Acampo\, My Restaurant\, Leeds\, 11-12 Park Row\, Leeds\, LS1 5HD\, United Kingdom
CATEGORIES:Leeds
ATTACH;FMTTYPE=image/png:https://www.thepahub.co.uk/wp-content/uploads/2018/02/logo.png
END:VEVENT
BEGIN:VEVENT
DTSTART;TZID=Europe/London:20210706T180000
DTEND;TZID=Europe/London:20210706T200000
DTSTAMP:20260421T124705
CREATED:20210609T085513Z
LAST-MODIFIED:20210704T190415Z
UID:9945-1625594400-1625601600@www.thepahub.co.uk
SUMMARY:Liverpool Social Event at Liverpool VRVE
DESCRIPTION:WE ARE BACK! Join us for our welcome back event in Liverpool.
URL:https://www.thepahub.co.uk/event/liverpool-social-event-epic/
LOCATION:Liverpool VRVE\, 8 WATER STREET\, Liverpool\, L2 8TD\, United Kingdom
CATEGORIES:Liverpool
ATTACH;FMTTYPE=image/png:https://www.thepahub.co.uk/wp-content/uploads/2021/06/VRVE-LOGO-e1628684982123.png
END:VEVENT
BEGIN:VEVENT
DTSTART;TZID=Europe/London:20210713T180000
DTEND;TZID=Europe/London:20210713T190000
DTSTAMP:20260421T124705
CREATED:20210507T183555Z
LAST-MODIFIED:20210712T183209Z
UID:9673-1626199200-1626202800@www.thepahub.co.uk
SUMMARY:Digital Development Event with Special Guest Speaker Cody Byrns
DESCRIPTION:Effective communication is arguably the most important tool that we have as humans. The workplace is no exception to this premise.
URL:https://www.thepahub.co.uk/event/digital-development-event-with-special-guest-speaker-cody-byrns/
CATEGORIES:Leeds,Liverpool,Online Events
ATTACH;FMTTYPE=image/jpeg:https://www.thepahub.co.uk/wp-content/uploads/2021/05/CodyByrns-2-e1626267374298.jpg
LOCATION:https://www.thepahub.co.uk/event/digital-development-event-with-special-guest-speaker-cody-byrns/
END:VEVENT
BEGIN:VEVENT
DTSTART;TZID=Europe/London:20210716T084500
DTEND;TZID=Europe/London:20210716T170000
DTSTAMP:20260421T124705
CREATED:20210430T184250Z
LAST-MODIFIED:20210607T145016Z
UID:9549-1626425100-1626454800@www.thepahub.co.uk
SUMMARY:Digital Conference 2021 (Member Tickets)
DESCRIPTION:Full Day Digital Conference\nSee full Conference details here and book your tickets below.
URL:https://www.thepahub.co.uk/event/member-digiconf21/
CATEGORIES:Leeds,Liverpool,Online Events,PA Hub Additional Events
ATTACH;FMTTYPE=image/jpeg:https://www.thepahub.co.uk/wp-content/uploads/2018/02/The-PA-Hub-Conference-01.jpg
LOCATION:https://www.thepahub.co.uk/event/member-digiconf21/
END:VEVENT
BEGIN:VEVENT
DTSTART;TZID=Europe/London:20210716T084500
DTEND;TZID=Europe/London:20210716T170000
DTSTAMP:20260421T124705
CREATED:20210504T111620Z
LAST-MODIFIED:20210630T175002Z
UID:9521-1626425100-1626454800@www.thepahub.co.uk
SUMMARY:Digital Conference 2021 (Non-Member Tickets)
DESCRIPTION:Full Day Digital Conference\nSee full Conference details here and book your tickets below.\n 
URL:https://www.thepahub.co.uk/event/non-member-digiconf21/
CATEGORIES:Leeds,Liverpool,Online Events,PA Hub Additional Events
ATTACH;FMTTYPE=image/jpeg:https://www.thepahub.co.uk/wp-content/uploads/2018/02/The-PA-Hub-Conference-01.jpg
LOCATION:https://www.thepahub.co.uk/event/non-member-digiconf21/
END:VEVENT
BEGIN:VEVENT
DTSTART;TZID=Europe/London:20210729T123000
DTEND;TZID=Europe/London:20210729T130000
DTSTAMP:20260421T124705
CREATED:20210626T225517Z
LAST-MODIFIED:20210626T233016Z
UID:10126-1627561800-1627563600@www.thepahub.co.uk
SUMMARY:The PA Hub Online Member Discussion Group
DESCRIPTION:TOPIC – NETWORKING\nJoin us for chats and discussions at our monthly group discussion meetings.
URL:https://www.thepahub.co.uk/event/supportgroup29072021/
CATEGORIES:Leeds,Liverpool,Online Events
ATTACH;FMTTYPE=image/jpeg:https://www.thepahub.co.uk/wp-content/uploads/2020/08/World-digital.jpg
LOCATION:https://www.thepahub.co.uk/event/supportgroup29072021/
END:VEVENT
BEGIN:VEVENT
DTSTART;TZID=Europe/London:20210810T180000
DTEND;TZID=Europe/London:20210810T190000
DTSTAMP:20260421T124705
CREATED:20210726T111216Z
LAST-MODIFIED:20210804T202929Z
UID:10380-1628618400-1628622000@www.thepahub.co.uk
SUMMARY:Wellness & Mindfulness Digital Event - Creating Healthy Habits
DESCRIPTION:Join us for our 3rd in a series of bi-monthly wellness and mindfulness events designed for our members with Zoe Thompson from Mind It Ltd.
URL:https://www.thepahub.co.uk/event/wellness-digital-10082021/
CATEGORIES:Leeds,Liverpool,Online Events
ATTACH;FMTTYPE=image/jpeg:https://www.thepahub.co.uk/wp-content/uploads/2021/04/Mind-It.jpg
LOCATION:https://www.thepahub.co.uk/event/wellness-digital-10082021/
END:VEVENT
BEGIN:VEVENT
DTSTART;TZID=Europe/London:20210812T180000
DTEND;TZID=Europe/London:20210812T200000
DTSTAMP:20260421T124705
CREATED:20210730T170031Z
LAST-MODIFIED:20210731T143714Z
UID:10577-1628791200-1628798400@www.thepahub.co.uk
SUMMARY:Leeds Social Event at Dakota Leeds
DESCRIPTION:Join us for our second event in Leeds for our ‘return to live events series’ at the wonderful Dakota Hotel.
URL:https://www.thepahub.co.uk/event/leeds-social-event-dakota/
LOCATION:Dakota Leeds\, 8 Russell Street\, Leeds\, LS1 5RN\, United Kingdom
CATEGORIES:Leeds
ATTACH;FMTTYPE=image/jpeg:https://www.thepahub.co.uk/wp-content/uploads/2020/10/dakota-hotels-DD.jpg
END:VEVENT
BEGIN:VEVENT
DTSTART;TZID=Europe/London:20210817T180000
DTEND;TZID=Europe/London:20210817T200000
DTSTAMP:20260421T124705
CREATED:20210731T132151Z
LAST-MODIFIED:20210731T143730Z
UID:10590-1629223200-1629230400@www.thepahub.co.uk
SUMMARY:Liverpool Social Event at Malmaison
DESCRIPTION:Join us for our second event in Liverpool for our ‘return to live events series’ at the fabulous Malmaison Hotel
URL:https://www.thepahub.co.uk/event/liverpool-social-malmaison/
LOCATION:Malmaison Liverpool\, 7 William Jessop Way\, Liverpool\, Merseyside\, L3 1QZ\, United Kingdom
CATEGORIES:Liverpool
ATTACH;FMTTYPE=image/png:https://www.thepahub.co.uk/wp-content/uploads/2021/07/201701-Malmaison-Logo-Black-on-Transparent.png
END:VEVENT
BEGIN:VEVENT
DTSTART;TZID=Europe/London:20210826T180000
DTEND;TZID=Europe/London:20210826T190000
DTSTAMP:20260421T124705
CREATED:20210731T144039Z
LAST-MODIFIED:20210813T132441Z
UID:10618-1630000800-1630004400@www.thepahub.co.uk
SUMMARY:Digital Discussion Group with Lucy Brazier OBE & Helen Monument
DESCRIPTION:TOPIC – SKILLS MATRIX\nJoin us for chats and discussions at our monthly group discussion meetings. This month is a special event with guest speaker Lucy Brazier OBE\, CEO\, Marcham Publishing\, talking us through the up and coming Skills Matrix which was originally created and finalised at the World Administrators Summit and we know this will revolutionise the profession.
URL:https://www.thepahub.co.uk/event/supportgroup26082021/
CATEGORIES:Leeds,Liverpool,Online Events
ATTACH;FMTTYPE=image/jpeg:https://www.thepahub.co.uk/wp-content/uploads/2021/03/Lucy-Brazier-e1627744260812.jpg
LOCATION:https://www.thepahub.co.uk/event/supportgroup26082021/
END:VEVENT
BEGIN:VEVENT
DTSTART;TZID=Europe/London:20210907T173000
DTEND;TZID=Europe/London:20210907T203000
DTSTAMP:20260421T124705
CREATED:20210730T074346Z
LAST-MODIFIED:20210730T110715Z
UID:10425-1631035800-1631046600@www.thepahub.co.uk
SUMMARY:Liverpool Christmas Showcase
DESCRIPTION:We are back with our ever-popular Christmas Showcases! Free for all PAs\, EAs\, VAs\, Secretaries and Office Managers.
URL:https://www.thepahub.co.uk/event/liverpool-christmas-showcase/
LOCATION:Delta Hotel by Marriott Liverpool\, 1 Queen Square\, Liverpool\, L1 1RH\, United Kingdom
CATEGORIES:Liverpool
ATTACH;FMTTYPE=image/png:https://www.thepahub.co.uk/wp-content/uploads/2020/04/Christmas-Showcase-image-1.png
END:VEVENT
BEGIN:VEVENT
DTSTART;TZID=Europe/London:20210908T173000
DTEND;TZID=Europe/London:20210908T203000
DTSTAMP:20260421T124705
CREATED:20210730T074441Z
LAST-MODIFIED:20210730T110610Z
UID:10437-1631122200-1631133000@www.thepahub.co.uk
SUMMARY:Leeds Christmas Showcase
DESCRIPTION:We are back with our ever-popular Christmas Showcases! Free for all PAs\, EAs\, VAs\, Secretaries and Office Managers.
URL:https://www.thepahub.co.uk/event/leeds-christmas-showcase/
LOCATION:The Met Leeds Hotel\, King Street\, Leeds\, LS1 2HQ\, United Kingdom
CATEGORIES:Leeds
ATTACH;FMTTYPE=image/png:https://www.thepahub.co.uk/wp-content/uploads/2021/07/Christmas-Showcase-image-1.png
END:VEVENT
END:VCALENDAR