BEGIN:VCALENDAR
VERSION:2.0
PRODID:-//The PA Hub - ECPv6.15.20//NONSGML v1.0//EN
CALSCALE:GREGORIAN
METHOD:PUBLISH
X-WR-CALNAME:The PA Hub
X-ORIGINAL-URL:https://www.thepahub.co.uk
X-WR-CALDESC:Events for The PA Hub
REFRESH-INTERVAL;VALUE=DURATION:PT1H
X-Robots-Tag:noindex
X-PUBLISHED-TTL:PT1H
BEGIN:VTIMEZONE
TZID:Europe/London
BEGIN:DAYLIGHT
TZOFFSETFROM:+0000
TZOFFSETTO:+0100
TZNAME:BST
DTSTART:20200329T010000
END:DAYLIGHT
BEGIN:STANDARD
TZOFFSETFROM:+0100
TZOFFSETTO:+0000
TZNAME:GMT
DTSTART:20201025T010000
END:STANDARD
BEGIN:DAYLIGHT
TZOFFSETFROM:+0000
TZOFFSETTO:+0100
TZNAME:BST
DTSTART:20210328T010000
END:DAYLIGHT
BEGIN:STANDARD
TZOFFSETFROM:+0100
TZOFFSETTO:+0000
TZNAME:GMT
DTSTART:20211031T010000
END:STANDARD
BEGIN:DAYLIGHT
TZOFFSETFROM:+0000
TZOFFSETTO:+0100
TZNAME:BST
DTSTART:20220327T010000
END:DAYLIGHT
BEGIN:STANDARD
TZOFFSETFROM:+0100
TZOFFSETTO:+0000
TZNAME:GMT
DTSTART:20221030T010000
END:STANDARD
BEGIN:DAYLIGHT
TZOFFSETFROM:+0000
TZOFFSETTO:+0100
TZNAME:BST
DTSTART:20230326T010000
END:DAYLIGHT
BEGIN:STANDARD
TZOFFSETFROM:+0100
TZOFFSETTO:+0000
TZNAME:GMT
DTSTART:20231029T010000
END:STANDARD
END:VTIMEZONE
BEGIN:VEVENT
DTSTART;TZID=Europe/London:20211007T173000
DTEND;TZID=Europe/London:20211007T193000
DTSTAMP:20260422T021344
CREATED:20211001T152523Z
LAST-MODIFIED:20211007T092223Z
UID:11401-1633627800-1633635000@www.thepahub.co.uk
SUMMARY:Development Event with Laura Belgrado at Jurys Inn\, Liverpool
DESCRIPTION:We are holding our next Liverpool development event on the evening before the conference with special international guest speaker Laura Belgrado.
URL:https://www.thepahub.co.uk/event/laura-belgrado-07102021/
LOCATION:Jurys Hotel\, No. 31 Keel Wharf\, Liverpool\,\, L3 4FN\, United Kingdom
CATEGORIES:Liverpool
ATTACH;FMTTYPE=image/jpeg:https://www.thepahub.co.uk/wp-content/uploads/2019/07/Laura-Belgrado-1.jpg
END:VEVENT
BEGIN:VEVENT
DTSTART;TZID=Europe/London:20211008T090000
DTEND;TZID=Europe/London:20211008T170000
DTSTAMP:20260422T021344
CREATED:20210804T171519Z
LAST-MODIFIED:20210804T192010Z
UID:10711-1633683600-1633712400@www.thepahub.co.uk
SUMMARY:Liverpool Conference 2021
DESCRIPTION:Full Day In-person Conference\nSee full Conference details below.\n \n 
URL:https://www.thepahub.co.uk/event/liverpool-conference-2021/
LOCATION:Delta Hotel by Marriott Liverpool\, 1 Queen Square\, Liverpool\, L1 1RH\, United Kingdom
CATEGORIES:Liverpool
ATTACH;FMTTYPE=image/jpeg:https://www.thepahub.co.uk/wp-content/uploads/2018/02/The-PA-Hub-Conference-01.jpg
END:VEVENT
BEGIN:VEVENT
DTSTART;TZID=Europe/London:20211008T173000
DTEND;TZID=Europe/London:20211008T193000
DTSTAMP:20260422T021344
CREATED:20211001T114707Z
LAST-MODIFIED:20211006T103143Z
UID:11379-1633714200-1633721400@www.thepahub.co.uk
SUMMARY:Merseyside & Chester PA Awards Celebration
DESCRIPTION:The PA Hub and Chester & North Wales PA Network are celebrating with our finalists and winners with an in-person special event in Liverpool. The Digital Awards took place in July 2021 and we can now raise a toast\, hand out certificates and trophies and have a big celebration with some of the top assistants in our region. We also welcome colleagues\, friends and conference delegates to celebrate with us.
URL:https://www.thepahub.co.uk/event/celebrationevent-mcpa/
LOCATION:Delta Hotel by Marriott Liverpool\, 1 Queen Square\, Liverpool\, L1 1RH\, United Kingdom
CATEGORIES:Liverpool
ATTACH;FMTTYPE=image/jpeg:https://www.thepahub.co.uk/wp-content/uploads/2015/04/Awards.jpg
END:VEVENT
BEGIN:VEVENT
DTSTART;TZID=Europe/London:20211014T180000
DTEND;TZID=Europe/London:20211014T190000
DTSTAMP:20260422T021344
CREATED:20210906T070339Z
LAST-MODIFIED:20211014T135025Z
UID:11116-1634234400-1634238000@www.thepahub.co.uk
SUMMARY:Wellness & Mindfulness Digital Event - Preventing Burnout
DESCRIPTION:Join us for our bi-monthly wellness and mindfulness events designed for our members with Lucile Allen-Paisant at Mind It Ltd. \n 
URL:https://www.thepahub.co.uk/event/wellness-digital-14102021/
CATEGORIES:Leeds,Liverpool,Manchester,Online Events
ATTACH;FMTTYPE=image/jpeg:https://www.thepahub.co.uk/wp-content/uploads/2021/09/Mind-It.jpg
LOCATION:https://www.thepahub.co.uk/event/wellness-digital-14102021/
END:VEVENT
BEGIN:VEVENT
DTSTART;TZID=Europe/London:20211019T123000
DTEND;TZID=Europe/London:20211019T130000
DTSTAMP:20260422T021344
CREATED:20211006T103237Z
LAST-MODIFIED:20211006T120116Z
UID:11460-1634646600-1634648400@www.thepahub.co.uk
SUMMARY:Digital Discussion Group
DESCRIPTION:TOPIC – OUR WINS OF THE WEEK\nThis month we thought we would celebrate our positive news and share stories of success – no matter how big or small.
URL:https://www.thepahub.co.uk/event/supportgroup19102021/
CATEGORIES:Leeds,Liverpool,Manchester,Online Events
ATTACH;FMTTYPE=image/jpeg:https://www.thepahub.co.uk/wp-content/uploads/2021/02/cup-of-coffee-1280537_1920.jpg
LOCATION:https://www.thepahub.co.uk/event/supportgroup19102021/
END:VEVENT
BEGIN:VEVENT
DTSTART;TZID=Europe/London:20211021T180000
DTEND;TZID=Europe/London:20211021T190000
DTSTAMP:20260422T021344
CREATED:20210731T163906Z
LAST-MODIFIED:20211022T132242Z
UID:10634-1634839200-1634842800@www.thepahub.co.uk
SUMMARY:Digital Development Event with Special Guest Speaker Jules Wyman
DESCRIPTION:“ Supporting the most important person in your life…nope not your boss (unless you work for yourself)!
URL:https://www.thepahub.co.uk/event/digital-development-event-jules-wyman/
CATEGORIES:Leeds,Liverpool,Manchester,Online Events
ATTACH;FMTTYPE=image/jpeg:https://www.thepahub.co.uk/wp-content/uploads/2021/07/Jules-Wyman-e1634909107200.jpg
LOCATION:https://www.thepahub.co.uk/event/digital-development-event-jules-wyman/
END:VEVENT
BEGIN:VEVENT
DTSTART;TZID=Europe/London:20211028T180000
DTEND;TZID=Europe/London:20211028T203000
DTSTAMP:20260422T021344
CREATED:20211213T172839Z
LAST-MODIFIED:20211216T144015Z
UID:11485-1635444000-1635453000@www.thepahub.co.uk
SUMMARY:Leeds Development Event with Heather Baker
DESCRIPTION:Join us in Leeds for our comeback series for our development event with the fantastic International Trainer Heather Baker with her topic: Lead the Partnership with your Manager.
URL:https://www.thepahub.co.uk/event/heather-baker-leeds/
LOCATION:Malmaison Leeds\, 1 SWINEGATE\,\, Leeds\, LS1 4AG\, United Kingdom
CATEGORIES:Leeds
ATTACH;FMTTYPE=image/jpeg:https://www.thepahub.co.uk/wp-content/uploads/2017/03/Heather-Baker.jpg
END:VEVENT
BEGIN:VEVENT
DTSTART;TZID=Europe/London:20211118T180000
DTEND;TZID=Europe/London:20211118T200000
DTSTAMP:20260422T021344
CREATED:20211022T114235Z
LAST-MODIFIED:20211102T135853Z
UID:11792-1637258400-1637265600@www.thepahub.co.uk
SUMMARY:Leeds Christmas Social Event at The Sky Lounge\, DoubleTree by Hilton
DESCRIPTION:Join us for an exclusive magical evening at The Sky Lounge at DoubleTree by Hilton in Leeds. Think drinks\, good food and lots of entertainment!
URL:https://www.thepahub.co.uk/event/leeds-social-event-dtleeds/
LOCATION:DoubleTree by Hilton Hotel Leeds City Centre\, Granary Wharf\, 2 Wharf Approach\, Leeds\, LS1 4BR\, United Kingdom
CATEGORIES:Leeds
ATTACH;FMTTYPE=image/jpeg:https://www.thepahub.co.uk/wp-content/uploads/2020/09/DT-New-Blue-Logo-scaled.jpg
END:VEVENT
BEGIN:VEVENT
DTSTART;TZID=Europe/London:20211123T180000
DTEND;TZID=Europe/London:20211123T200000
DTSTAMP:20260422T021344
CREATED:20211102T135921Z
LAST-MODIFIED:20211102T144936Z
UID:11865-1637690400-1637697600@www.thepahub.co.uk
SUMMARY:Liverpool Social Event at EPIC Hotel
DESCRIPTION:Join us at our social event in Liverpool at the amazing new EPIC Hotel.
URL:https://www.thepahub.co.uk/event/liverpool-social-epic/
LOCATION:EPIC\, 42 Seel Street\, Liverpool\, L1 4BE
CATEGORIES:Liverpool
ATTACH;FMTTYPE=image/png:https://www.thepahub.co.uk/wp-content/uploads/2021/06/EPIC_logo_v1_whiteonblack-002.png
END:VEVENT
BEGIN:VEVENT
DTSTART;TZID=Europe/London:20211125T180000
DTEND;TZID=Europe/London:20211125T203000
DTSTAMP:20260422T021344
CREATED:20211006T115022Z
LAST-MODIFIED:20211025T105211Z
UID:11468-1637863200-1637872200@www.thepahub.co.uk
SUMMARY:Manchester Development Event with Steven Robinson BEM
DESCRIPTION:We are now live in Manchester and cannot wait to introduce our first speaker to you! As it is our first development event since the launch you can join us with our compliments.
URL:https://www.thepahub.co.uk/event/steven-robinson/
LOCATION:DoubleTree by Hilton Manchester\, One Piccadilly Place\, 1 Auburn St.\, MANCHESTER\, M1 3DG\, United Kingdom
CATEGORIES:Manchester
ATTACH;FMTTYPE=image/jpeg:https://www.thepahub.co.uk/wp-content/uploads/2017/07/Steven-Robinson-Portrait-scaled.jpg
END:VEVENT
BEGIN:VEVENT
DTSTART;TZID=Europe/London:20211129T180000
DTEND;TZID=Europe/London:20211129T190000
DTSTAMP:20260422T021344
CREATED:20211108T230741Z
LAST-MODIFIED:20211122T150911Z
UID:11937-1638208800-1638212400@www.thepahub.co.uk
SUMMARY:Digital Development Event with Microsoft Office Specialist Expert - Lizebeth Koloko-Green
DESCRIPTION:Timesaving Tips for using Outlook on the web to work and collaborate more effectively.
URL:https://www.thepahub.co.uk/event/digital-lizebeth-koloko-green/
CATEGORIES:Leeds,Liverpool,Manchester,Online Events
ATTACH;FMTTYPE=image/jpeg:https://www.thepahub.co.uk/wp-content/uploads/2021/11/Photo-Lizebeth-KOLOKO.jpg
LOCATION:https://www.thepahub.co.uk/event/digital-lizebeth-koloko-green/
END:VEVENT
BEGIN:VEVENT
DTSTART;TZID=Europe/London:20211214T183000
DTEND;TZID=Europe/London:20211214T200000
DTSTAMP:20260422T021344
CREATED:20211108T233201Z
LAST-MODIFIED:20211109T011254Z
UID:11946-1639506600-1639512000@www.thepahub.co.uk
SUMMARY:The PA Hub Digital Festive Party Event 2021
DESCRIPTION:Don’t miss our online festive group party! Bringing some Christmas cheer to our PA Hub festive event. \nThe best Christmas outfit on the night wins a free place at our Manchester Conference in 2022!
URL:https://www.thepahub.co.uk/event/festiveparty2021/
CATEGORIES:Leeds,Liverpool,Manchester,Online Events
ATTACH;FMTTYPE=image/png:https://www.thepahub.co.uk/wp-content/uploads/2021/11/14th-December-2021.png
LOCATION:https://www.thepahub.co.uk/event/festiveparty2021/
END:VEVENT
BEGIN:VEVENT
DTSTART;TZID=Europe/London:20220105T180000
DTEND;TZID=Europe/London:20220105T190000
DTSTAMP:20260422T021344
CREATED:20210906T073021Z
LAST-MODIFIED:20220105T115042Z
UID:11122-1641405600-1641409200@www.thepahub.co.uk
SUMMARY:Wellness & Mindfulness Digital Event - Sleeping better
DESCRIPTION:Join us for our series of bi-monthly wellness and mindfulness events designed for our members with Zoe Thompson from Mind It Ltd.
URL:https://www.thepahub.co.uk/event/wellness-digital-05012022/
CATEGORIES:Leeds,Liverpool,Manchester,Online Events
ATTACH;FMTTYPE=image/jpeg:https://www.thepahub.co.uk/wp-content/uploads/2021/04/Mind-It.jpg
LOCATION:https://www.thepahub.co.uk/event/wellness-digital-05012022/
END:VEVENT
BEGIN:VEVENT
DTSTART;TZID=Europe/London:20220111T180000
DTEND;TZID=Europe/London:20220111T203000
DTSTAMP:20260422T021344
CREATED:20211215T161359Z
LAST-MODIFIED:20211230T155440Z
UID:12194-1641924000-1641933000@www.thepahub.co.uk
SUMMARY:Liverpool Development Event with Emily Walker
DESCRIPTION:Join us for our first event of the year in Liverpool with special guest speaker Emily Walker at Pullman Hotel.
URL:https://www.thepahub.co.uk/event/emily-walker/
LOCATION:Pullman Liverpool\, Kings Dock\, Liverpool\, L3 4FP\, United Kingdom
CATEGORIES:Liverpool
ATTACH;FMTTYPE=image/jpeg:https://www.thepahub.co.uk/wp-content/uploads/2021/12/Emily-Walker-e1644954026246.jpg
END:VEVENT
BEGIN:VEVENT
DTSTART;TZID=Europe/London:20220113T180000
DTEND;TZID=Europe/London:20220113T203000
DTSTAMP:20260422T021344
CREATED:20211216T142822Z
LAST-MODIFIED:20220103T004937Z
UID:12224-1642096800-1642105800@www.thepahub.co.uk
SUMMARY:Leeds Development Event with Melanie Richardson
DESCRIPTION:Join us for our first event of the year in Leeds with special guest speaker Melanie Richardson at Hilton Leeds City Hotel.
URL:https://www.thepahub.co.uk/event/melanie-richardson-leeds/
LOCATION:Hilton Leeds City\, Neville Street \, Leeds\, LS1 4BX\, United Kingdom
CATEGORIES:Leeds
ATTACH;FMTTYPE=image/jpeg:https://www.thepahub.co.uk/wp-content/uploads/2021/12/Melanie-Richards_018-scaled-e1639417483506.jpg
END:VEVENT
BEGIN:VEVENT
DTSTART;TZID=Europe/London:20220215T180000
DTEND;TZID=Europe/London:20220215T190000
DTSTAMP:20260422T021344
CREATED:20220124T192722Z
LAST-MODIFIED:20220215T121322Z
UID:12508-1644948000-1644951600@www.thepahub.co.uk
SUMMARY:Digital Development Event with Emily Walker
DESCRIPTION:Join us for our digital development event with special guest speaker Emily Walker talking about ‘The Place of the PA in a Post Pandemic World’.
URL:https://www.thepahub.co.uk/event/emily-walker-digital/
CATEGORIES:Leeds,Liverpool,Manchester,Online Events
ATTACH;FMTTYPE=image/jpeg:https://www.thepahub.co.uk/wp-content/uploads/2021/12/Emily-Walker-e1644954026246.jpg
LOCATION:https://www.thepahub.co.uk/event/emily-walker-digital/
END:VEVENT
BEGIN:VEVENT
DTSTART;TZID=Europe/London:20220217T180000
DTEND;TZID=Europe/London:20220217T200000
DTSTAMP:20260422T021344
CREATED:20220131T145427Z
LAST-MODIFIED:20220131T164356Z
UID:12559-1645120800-1645128000@www.thepahub.co.uk
SUMMARY:Leeds Social Event at Angelica
DESCRIPTION:Join us at our social event in Leeds at the fabulous Angelica.
URL:https://www.thepahub.co.uk/event/leeds-angelica/
LOCATION:Angelica\, Level 6\, Trinity Leeds\, 70 Boar Lane\, Leeds\, LS1 6HW\, United Kingdom
CATEGORIES:Leeds
ATTACH;FMTTYPE=image/png:https://www.thepahub.co.uk/wp-content/uploads/2022/01/Angelica-transparent.png
END:VEVENT
BEGIN:VEVENT
DTSTART;TZID=Europe/London:20220222T180000
DTEND;TZID=Europe/London:20220222T200000
DTSTAMP:20260422T021344
CREATED:20220124T180241Z
LAST-MODIFIED:20220131T154344Z
UID:12481-1645552800-1645560000@www.thepahub.co.uk
SUMMARY:Liverpool Social Event at Quirky Quarter
DESCRIPTION:Join us at our social event in Liverpool at the fantastic brand new Quirky Quarter.
URL:https://www.thepahub.co.uk/event/liverpool-quirky-quarter/
LOCATION:Quirky Quarter\, The Arch\, 142 Duke St\,\, Liverpool\, L1 5DR\, United Kingdom
CATEGORIES:Liverpool
ATTACH;FMTTYPE=image/png:https://www.thepahub.co.uk/wp-content/uploads/2022/01/event-logo-2.png
END:VEVENT
BEGIN:VEVENT
DTSTART;TZID=Europe/London:20220224T180000
DTEND;TZID=Europe/London:20220224T200000
DTSTAMP:20260422T021344
CREATED:20220121T153356Z
LAST-MODIFIED:20220223T231846Z
UID:12388-1645725600-1645732800@www.thepahub.co.uk
SUMMARY:Manchester Social Event at Moxy Manchester City
DESCRIPTION:Join us at our social event in Manchester at the amazing new Moxy Manchester City.
URL:https://www.thepahub.co.uk/event/manchester-moxy/
LOCATION:Moxy Manchester City\, 8 Atkinson Street\, Spinningfields\, Manchester\, M3 3HH\, United Kingdom
CATEGORIES:Manchester
ATTACH;FMTTYPE=image/png:https://www.thepahub.co.uk/wp-content/uploads/2022/01/moxy-hotels-vector-logo.png
END:VEVENT
BEGIN:VEVENT
DTSTART;TZID=Europe/London:20220315T180000
DTEND;TZID=Europe/London:20220315T190000
DTSTAMP:20260422T021344
CREATED:20210906T073416Z
LAST-MODIFIED:20220315T094620Z
UID:11125-1647367200-1647370800@www.thepahub.co.uk
SUMMARY:Wellness & Mindfulness Digital Event - Achieving Life Balance
DESCRIPTION:Join us for our series of bi-monthly wellness and mindfulness events designed for our members with Zoe Thompson from Mind It Ltd.
URL:https://www.thepahub.co.uk/event/wellness-digital-15032022/
CATEGORIES:Leeds,Liverpool,Manchester,Online Events
ATTACH;FMTTYPE=image/jpeg:https://www.thepahub.co.uk/wp-content/uploads/2021/04/Mind-It.jpg
LOCATION:https://www.thepahub.co.uk/event/wellness-digital-15032022/
END:VEVENT
BEGIN:VEVENT
DTSTART;TZID=Europe/London:20220317T180000
DTEND;TZID=Europe/London:20220317T203000
DTSTAMP:20260422T021344
CREATED:20211204T151601Z
LAST-MODIFIED:20220316T190826Z
UID:12146-1647540000-1647549000@www.thepahub.co.uk
SUMMARY:Manchester Development Event with Heather Baker
DESCRIPTION:Join our Manchester development event – we cannot wait to introduce you to our international PA trainer and speaker Heather Baker.
URL:https://www.thepahub.co.uk/event/heather-baker-manchester/
LOCATION:Maldron Hotel Manchester City Centre\, 60 Charles Street\, Manchester\, M1 7DF
CATEGORIES:Manchester
ATTACH;FMTTYPE=image/jpeg:https://www.thepahub.co.uk/wp-content/uploads/2021/12/Heather-new-hi-res-Cropped-scaled.jpg
END:VEVENT
BEGIN:VEVENT
DTSTART;TZID=Europe/London:20220324T174500
DTEND;TZID=Europe/London:20220324T203000
DTSTAMP:20260422T021344
CREATED:20220121T221836Z
LAST-MODIFIED:20220321T143459Z
UID:12454-1648143900-1648153800@www.thepahub.co.uk
SUMMARY:Manchester Venue & Travel Showcase
DESCRIPTION:Introducing our ever-popular Venue\, Supplier & Travel Showcase to Manchester!\nFREE for all PAs\, EAs\, VAs\, Secretaries and Office Managers to attend with FABULOUS prizes.
URL:https://www.thepahub.co.uk/event/manchester-venue-travel-showcase/
LOCATION:Native Manchester\, Native\, Ducie Street Warehouse\, Ducie Street\,\, Manchester\, M1 2TP\, United Kingdom
CATEGORIES:Manchester
ATTACH;FMTTYPE=image/png:https://www.thepahub.co.uk/wp-content/uploads/2022/01/MANCHESTER-VTSC-2.png
END:VEVENT
BEGIN:VEVENT
DTSTART;TZID=Europe/London:20220329T173000
DTEND;TZID=Europe/London:20220329T203000
DTSTAMP:20260422T021344
CREATED:20220121T192530Z
LAST-MODIFIED:20220121T220605Z
UID:12427-1648575000-1648585800@www.thepahub.co.uk
SUMMARY:Liverpool Venue & Travel Showcase
DESCRIPTION:We are back with our ever-popular Venue\, Supplier & Travel Showcase in Liverpool!\nFREE for all PAs\, EAs\, VAs\, Secretaries and Office Managers to attend with FABULOUS prizes.
URL:https://www.thepahub.co.uk/event/liverpool-venue-travel-showcase/
LOCATION:INNSiDE Liverpool\, 43 Old Hall Street\, Liverpool\, L3 9PP\, United Kingdom
CATEGORIES:Liverpool
ATTACH;FMTTYPE=image/png:https://www.thepahub.co.uk/wp-content/uploads/2022/01/Liverpool-VTSC.png
END:VEVENT
BEGIN:VEVENT
DTSTART;TZID=Europe/London:20220331T173000
DTEND;TZID=Europe/London:20220331T203000
DTSTAMP:20260422T021344
CREATED:20220121T170816Z
LAST-MODIFIED:20220419T111349Z
UID:12409-1648747800-1648758600@www.thepahub.co.uk
SUMMARY:Leeds Venue & Travel Showcase
DESCRIPTION:We are back with our ever-popular Venue\, Supplier & Travel Showcase in Leeds!\nFREE for all PAs\, EAs\, VAs\, Secretaries and Office Managers to attend with FABULOUS prizes.
URL:https://www.thepahub.co.uk/event/leeds-venue-travel-showcase/
LOCATION:Leeds Marriott Hotel\, 4 Trevelyan Square\, Boar Lane\, Leeds\, LS1 6ET
CATEGORIES:Leeds
ATTACH;FMTTYPE=image/png:https://www.thepahub.co.uk/wp-content/uploads/2022/01/LEEDS-VTSC.png
END:VEVENT
BEGIN:VEVENT
DTSTART;TZID=Europe/London:20220428T180000
DTEND;TZID=Europe/London:20220428T190000
DTSTAMP:20260422T021344
CREATED:20220401T185218Z
LAST-MODIFIED:20220427T164338Z
UID:13222-1651168800-1651172400@www.thepahub.co.uk
SUMMARY:Digital Event - Managing Multiple Managers with Leigh-Ann Smith
DESCRIPTION:Join us for our digital development event with special guest speaker Leigh-Ann Smith talking about Managing Multiple Managers.
URL:https://www.thepahub.co.uk/event/leigh-ann-smith-digital/
CATEGORIES:Leeds,Liverpool,Manchester,Online Events
ATTACH;FMTTYPE=image/jpeg:https://www.thepahub.co.uk/wp-content/uploads/2022/04/Head-Shoulders-scaled-e1649170178867.jpg
LOCATION:https://www.thepahub.co.uk/event/leigh-ann-smith-digital/
END:VEVENT
BEGIN:VEVENT
DTSTART;TZID=Europe/London:20220503T180000
DTEND;TZID=Europe/London:20220503T203000
DTSTAMP:20260422T021344
CREATED:20220419T163748Z
LAST-MODIFIED:20220530T153826Z
UID:13657-1651600800-1651609800@www.thepahub.co.uk
SUMMARY:Liverpool Development Event with Traci Williams
DESCRIPTION:Join us at Radisson Blu Liverpool with special guest speaker Traci Williams talking all things Excel.
URL:https://www.thepahub.co.uk/event/traci-williams-liverpool/
LOCATION:Radisson Blu Liverpool\, 107 Old Hall Street\, Liverpool\, L3 9BD
CATEGORIES:Liverpool
ATTACH;FMTTYPE=image/jpeg:https://www.thepahub.co.uk/wp-content/uploads/2022/04/Traci-Williams.jpg
END:VEVENT
BEGIN:VEVENT
DTSTART;TZID=Europe/London:20220504T180000
DTEND;TZID=Europe/London:20220504T200000
DTSTAMP:20260422T021344
CREATED:20220419T160254Z
LAST-MODIFIED:20220419T163600Z
UID:13644-1651687200-1651694400@www.thepahub.co.uk
SUMMARY:Leeds Social Event at Flight Club
DESCRIPTION:Join us at our social event in Leeds at the one of the newest experiences in Leeds. This is for members’ only and will be a fun filled night with a great menu of food\, games and drinks.
URL:https://www.thepahub.co.uk/event/leeds-flight-club/
LOCATION:Flight Club Leeds\, 1-2 South Parade\, Leeds\, Leeds\, LS1 5QL\, United Kingdom
CATEGORIES:Leeds
ATTACH;FMTTYPE=image/png:https://www.thepahub.co.uk/wp-content/uploads/2022/04/logo.png
END:VEVENT
BEGIN:VEVENT
DTSTART;TZID=Europe/London:20220510T180000
DTEND;TZID=Europe/London:20220510T203000
DTSTAMP:20260422T021344
CREATED:20220405T095915Z
LAST-MODIFIED:20220502T221901Z
UID:13240-1652205600-1652214600@www.thepahub.co.uk
SUMMARY:Manchester Development Event - A Matter of Confidence with Melanie Richardson
DESCRIPTION:Join us for our development event in Manchester with special guest speaker Melanie Richardson at Holiday Inn Manchester City Centre. \n  \n 
URL:https://www.thepahub.co.uk/event/melanie-richardson-manchester/
LOCATION:Holiday Inn Manchester City Centre\, 25 Aytoun Street\, Manchester\, M1 3AE
CATEGORIES:Manchester
ATTACH;FMTTYPE=image/jpeg:https://www.thepahub.co.uk/wp-content/uploads/2021/12/Melanie-Richards_018-scaled-e1639417483506.jpg
END:VEVENT
BEGIN:VEVENT
DTSTART;TZID=Europe/London:20220512T180000
DTEND;TZID=Europe/London:20220512T203000
DTSTAMP:20260422T021344
CREATED:20220405T145358Z
LAST-MODIFIED:20220505T220202Z
UID:13252-1652378400-1652387400@www.thepahub.co.uk
SUMMARY:Newcastle Launch with Sophie Chapman at St James' Park in Partnership with LNER
DESCRIPTION:Join us for our launch in Newcastle at the iconic St James’ Park with special guest speaker\, Sophie Chapman\, Assistant to Steven Bartlett\, in partnership with LNER.
URL:https://www.thepahub.co.uk/event/sophie-chapman-newcastle-launch/
LOCATION:St James’ Park\, Strawberry Place\, Newcastle Upon Tyne\, NE1 4ST
CATEGORIES:Newcastle
ATTACH;FMTTYPE=image/png:https://www.thepahub.co.uk/wp-content/uploads/2022/04/Screenshot-2022-03-28-at-14.29.26.png
END:VEVENT
BEGIN:VEVENT
DTSTART;TZID=Europe/London:20220607T180000
DTEND;TZID=Europe/London:20220607T190000
DTSTAMP:20260422T021344
CREATED:20220530T150155Z
LAST-MODIFIED:20220606T152347Z
UID:14381-1654624800-1654628400@www.thepahub.co.uk
SUMMARY:Digital Event - Excel Dashboards with Traci Williams
DESCRIPTION:Join us for our digital development event with special guest speaker Traci Williams talking about Excel Dashboards.\n 
URL:https://www.thepahub.co.uk/event/traci-williams-digital-dashboard/
CATEGORIES:Leeds,Liverpool,Manchester,Newcastle,Online Events
ATTACH;FMTTYPE=image/jpeg:https://www.thepahub.co.uk/wp-content/uploads/2022/04/ea-logo-scaled.jpg
LOCATION:https://www.thepahub.co.uk/event/traci-williams-digital-dashboard/
END:VEVENT
END:VCALENDAR