BEGIN:VCALENDAR
VERSION:2.0
PRODID:-//The PA Hub - ECPv6.15.20//NONSGML v1.0//EN
CALSCALE:GREGORIAN
METHOD:PUBLISH
X-ORIGINAL-URL:https://www.thepahub.co.uk
X-WR-CALDESC:Events for The PA Hub
REFRESH-INTERVAL;VALUE=DURATION:PT1H
X-Robots-Tag:noindex
X-PUBLISHED-TTL:PT1H
BEGIN:VTIMEZONE
TZID:Europe/London
BEGIN:DAYLIGHT
TZOFFSETFROM:+0000
TZOFFSETTO:+0100
TZNAME:BST
DTSTART:20220327T010000
END:DAYLIGHT
BEGIN:STANDARD
TZOFFSETFROM:+0100
TZOFFSETTO:+0000
TZNAME:GMT
DTSTART:20221030T010000
END:STANDARD
BEGIN:DAYLIGHT
TZOFFSETFROM:+0000
TZOFFSETTO:+0100
TZNAME:BST
DTSTART:20230326T010000
END:DAYLIGHT
BEGIN:STANDARD
TZOFFSETFROM:+0100
TZOFFSETTO:+0000
TZNAME:GMT
DTSTART:20231029T010000
END:STANDARD
BEGIN:DAYLIGHT
TZOFFSETFROM:+0000
TZOFFSETTO:+0100
TZNAME:BST
DTSTART:20240331T010000
END:DAYLIGHT
BEGIN:STANDARD
TZOFFSETFROM:+0100
TZOFFSETTO:+0000
TZNAME:GMT
DTSTART:20241027T010000
END:STANDARD
BEGIN:DAYLIGHT
TZOFFSETFROM:+0000
TZOFFSETTO:+0100
TZNAME:BST
DTSTART:20250330T010000
END:DAYLIGHT
BEGIN:STANDARD
TZOFFSETFROM:+0100
TZOFFSETTO:+0000
TZNAME:GMT
DTSTART:20251026T010000
END:STANDARD
END:VTIMEZONE
BEGIN:VEVENT
DTSTART;TZID=Europe/London:20230831T123000
DTEND;TZID=Europe/London:20230831T133000
DTSTAMP:20260421T155204
CREATED:20230824T111031Z
LAST-MODIFIED:20230830T200628Z
UID:20406-1693485000-1693488600@www.thepahub.co.uk
SUMMARY:Digital Event with Lucy Brazier OBE
DESCRIPTION:Join us for our lunchtime digital development event with Lucy Brazier OBE and her session\nThe Value Proposition.
URL:https://www.thepahub.co.uk/event/digital-lucy-brazier-obe/
CATEGORIES:Online Events
ATTACH;FMTTYPE=image/jpeg:https://www.thepahub.co.uk/wp-content/uploads/2021/02/Lucy-Brazier-e1541361030183-500x500-1.jpg
LOCATION:https://www.thepahub.co.uk/event/digital-lucy-brazier-obe/
END:VEVENT
BEGIN:VEVENT
DTSTART;TZID=Europe/London:20230912T173000
DTEND;TZID=Europe/London:20230912T203000
DTSTAMP:20260421T155204
CREATED:20230726T145700Z
LAST-MODIFIED:20230911T144844Z
UID:19874-1694539800-1694550600@www.thepahub.co.uk
SUMMARY:FREE EVENT - Liverpool Christmas Showcase - Delta Hotel by Marriott Liverpool
DESCRIPTION:Our forever popular Christmas showcases are back in Liverpool! Join us at the fabulous Delta Hotel by Marriott Liverpool this September. \nFREE for all PAs\, EAs\, VAs\, Secretaries\, Office Managers and equivalent roles.
URL:https://www.thepahub.co.uk/event/liverpool-showcase-delta/
LOCATION:Delta Hotel by Marriott Liverpool\, 1 Queen Square\, Liverpool\, L1 1RH\, United Kingdom
CATEGORIES:Liverpool
ATTACH;FMTTYPE=image/png:https://www.thepahub.co.uk/wp-content/uploads/2023/07/Delta-by-Marriott-Liverpool-Logo.png
END:VEVENT
BEGIN:VEVENT
DTSTART;TZID=Europe/London:20230919T173000
DTEND;TZID=Europe/London:20230919T203000
DTSTAMP:20260421T155204
CREATED:20230726T152959Z
LAST-MODIFIED:20230914T130848Z
UID:19894-1695144600-1695155400@www.thepahub.co.uk
SUMMARY:FREE EVENT - Newcastle Christmas Showcase - Copthorne Hotel Newcastle
DESCRIPTION:Our forever popular Christmas showcases are back in Newcastle! Join us at the fantastic Copthorne Hotel Newcastle this September. \nFREE for all PAs\, EAs\, VAs\, Secretaries\, Office Managers and equivalent roles.
URL:https://www.thepahub.co.uk/event/newcastle-showcase-copthorne/
LOCATION:Copthorne Hotel Newcastle\, The Close\, Quayside\, Newcastle Upon Tyne\, NE1 3RT\, United Kingdom
CATEGORIES:Newcastle
ATTACH;FMTTYPE=image/png:https://www.thepahub.co.uk/wp-content/uploads/2022/12/Copthorne-Logo.png
END:VEVENT
BEGIN:VEVENT
DTSTART;TZID=Europe/London:20230928T173000
DTEND;TZID=Europe/London:20230928T203000
DTSTAMP:20260421T155204
CREATED:20230726T160347Z
LAST-MODIFIED:20230915T135904Z
UID:19901-1695922200-1695933000@www.thepahub.co.uk
SUMMARY:FREE EVENT - Manchester Christmas Showcase - INNSiDE by Melia Manchester
DESCRIPTION:Our forever popular Christmas showcases are back in Manchester! Join us at the gorgeous INNSiDE by Melia Manchester this September. \nFREE for all PAs\, EAs\, VAs\, Secretaries\, Office Managers and equivalent roles.
URL:https://www.thepahub.co.uk/event/manchester-showcase-innside/
CATEGORIES:Manchester
END:VEVENT
BEGIN:VEVENT
DTSTART;TZID=Europe/London:20231010T180000
DTEND;TZID=Europe/London:20231010T203000
DTSTAMP:20260421T155204
CREATED:20230824T145324Z
LAST-MODIFIED:20231005T125545Z
UID:20429-1696960800-1696969800@www.thepahub.co.uk
SUMMARY:Liverpool Development Event - Radisson RED with Kathleen Drum
DESCRIPTION:Join us at Radisson Red Liverpool for a learning and development event with Kathleen Drum speaking about\nThe Productivity Triangle
URL:https://www.thepahub.co.uk/event/liverpool-dev-rad-red/
LOCATION:Radisson RED Liverpool\, 7 Lime Street\, Liverpool\, L1 1RD\, United Kingdom
CATEGORIES:Liverpool
ATTACH;FMTTYPE=image/gif:https://www.thepahub.co.uk/wp-content/uploads/2023/08/Radisson-Red-Liverpool.gif
END:VEVENT
BEGIN:VEVENT
DTSTART;TZID=Europe/London:20231011T180000
DTEND;TZID=Europe/London:20231011T203000
DTSTAMP:20260421T155204
CREATED:20230824T162441Z
LAST-MODIFIED:20231005T095449Z
UID:20448-1697047200-1697056200@www.thepahub.co.uk
SUMMARY:Manchester Development Event at Malmaison Manchester with Kathleen Drum
DESCRIPTION:Join us in Manchester for a learning and development event at Malmaison Manchester with Kathleen Drum\, Senior Editor\, Executive Support Media\, speaking about\nThe Productivity Triangle
URL:https://www.thepahub.co.uk/event/manchester-kathleen-drum/
LOCATION:Malmaison Manchester Piccadilly Hotel\, 1 - 3 Piccadilly\, Manchester\, M1 3AQ\, United Kingdom
CATEGORIES:Manchester
ATTACH;FMTTYPE=image/jpeg:https://www.thepahub.co.uk/wp-content/uploads/2023/08/Kathleen-Drum-Low-Res-Square.jpg
END:VEVENT
BEGIN:VEVENT
DTSTART;TZID=Europe/London:20231017T180000
DTEND;TZID=Europe/London:20231017T203000
DTSTAMP:20260421T155204
CREATED:20230726T174041Z
LAST-MODIFIED:20231005T133954Z
UID:19937-1697565600-1697574600@www.thepahub.co.uk
SUMMARY:Newcastle Development Event - Everyman Cinema with Liz Hardwick
DESCRIPTION:Join us at Everyman Cinema Newcastle for a learning and development event with Liz Hardwick speaking about\nDigital Productivity Tools for an Optimised 2024.
URL:https://www.thepahub.co.uk/event/newcastle-dev-everyman/
LOCATION:Everyman Cinema Newcastle\, 75-85 Grey Street\, Newcastle upon Tyne\, NE1 6EF\, United Kingdom
CATEGORIES:Newcastle
END:VEVENT
BEGIN:VEVENT
DTSTART;TZID=Europe/London:20231019T180000
DTEND;TZID=Europe/London:20231019T203000
DTSTAMP:20260421T155204
CREATED:20230726T165937Z
LAST-MODIFIED:20230824T144710Z
UID:19918-1697738400-1697747400@www.thepahub.co.uk
SUMMARY:Leeds Development Event - Everyman Cinema with Liz Hardwick
DESCRIPTION:Join us at Everyman Cinema Leeds for a learning and development event with Liz Hardwick speaking about\nDigital Productivity Tools for an Optimised 2024.
URL:https://www.thepahub.co.uk/event/leeds-dev-everyman/
LOCATION:Everyman Cinema Leeds\, Level 4\, Trinity\, Albion Street\, Leeds\, LS1 5AT
CATEGORIES:Leeds
ATTACH;FMTTYPE=image/jpeg:https://www.thepahub.co.uk/wp-content/uploads/2023/07/Liz-Headshot-High-Res-2-scaled-e1692885685810.jpg
END:VEVENT
BEGIN:VEVENT
DTSTART;TZID=Europe/London:20231115T173000
DTEND;TZID=Europe/London:20231115T180000
DTSTAMP:20260421T155204
CREATED:20230928T123846Z
LAST-MODIFIED:20231114T124253Z
UID:20929-1700069400-1700071200@www.thepahub.co.uk
SUMMARY:Digital Event with Kristine Valenzuela
DESCRIPTION:Join us for our digital development event with Kristine Valenzuela and her session:\nDemystifying the C-Suite: Becoming Comfortable with Executives and How to Level Up.
URL:https://www.thepahub.co.uk/event/digital-kristinev-nov23/
CATEGORIES:Online Events
ATTACH;FMTTYPE=image/jpeg:https://www.thepahub.co.uk/wp-content/uploads/2023/09/KValenzuela-head-shot-scaled.jpeg
LOCATION:https://www.thepahub.co.uk/event/digital-kristinev-nov23/
END:VEVENT
BEGIN:VEVENT
DTSTART;TZID=Europe/London:20231128T180000
DTEND;TZID=Europe/London:20231128T200000
DTSTAMP:20260421T155204
CREATED:20231114T193203Z
LAST-MODIFIED:20231127T064439Z
UID:21575-1701194400-1701201600@www.thepahub.co.uk
SUMMARY:Newcastle Christmas Social Event at Manahatta Newcastle
DESCRIPTION:Join us for our Christmas social at Manahatta Newcastle for networking over festive drinks and food!\n 
URL:https://www.thepahub.co.uk/event/newcastle-christmas-social-23/
LOCATION:Manahatta Newcastle\, 9-17 Collingwood Street\, Newcastle Upon Tyne\, NE1 1HE\, United Kingdom
CATEGORIES:Newcastle
ATTACH;FMTTYPE=image/png:https://www.thepahub.co.uk/wp-content/uploads/2023/11/Manahatta_Logo_Gold-edit-435x435-002.png
END:VEVENT
BEGIN:VEVENT
DTSTART;TZID=Europe/London:20231129T180000
DTEND;TZID=Europe/London:20231129T200000
DTSTAMP:20260421T155204
CREATED:20231026T134413Z
LAST-MODIFIED:20231026T152837Z
UID:21256-1701280800-1701288000@www.thepahub.co.uk
SUMMARY:Manchester Christmas Social Event at Holiday Inn Manchester City Centre
DESCRIPTION:Join us for our Christmas social at Holiday Inn Manchester City Centre for networking over drinks and food with some fun festive activities!\n 
URL:https://www.thepahub.co.uk/event/manchester-christmas-social/
LOCATION:Holiday Inn Manchester City Centre\, 25 Aytoun Street\, Manchester\, M1 3AE
CATEGORIES:Manchester
ATTACH;FMTTYPE=image/png:https://www.thepahub.co.uk/wp-content/uploads/2023/10/HImccBeeWHITEHtransparentwings-copy.png
END:VEVENT
BEGIN:VEVENT
DTSTART;TZID=Europe/London:20231130T180000
DTEND;TZID=Europe/London:20231130T200000
DTSTAMP:20260421T155204
CREATED:20231113T015509Z
LAST-MODIFIED:20231113T024820Z
UID:21543-1701367200-1701374400@www.thepahub.co.uk
SUMMARY:Leeds Christmas Social Event at Parkside Tavern – Concept Taverns
DESCRIPTION:Join us for our Christmas social at Parkside Tavern – Concept Taverns for networking over drinks and food with some fabulous fun activities and a festive feast buffet!\n 
URL:https://www.thepahub.co.uk/event/leeds-christmas-social-23/
LOCATION:Parkside Tavern – Concept Taverns\, St Johns House\, Merrion St\, Leeds\, United Kingdom
CATEGORIES:Leeds
ATTACH;FMTTYPE=image/png:https://www.thepahub.co.uk/wp-content/uploads/2023/11/Parkside-Tavern-Logo.png
END:VEVENT
BEGIN:VEVENT
DTSTART;TZID=Europe/London:20231218T180000
DTEND;TZID=Europe/London:20231218T190000
DTSTAMP:20260421T155204
CREATED:20231127T053310Z
LAST-MODIFIED:20241216T142123Z
UID:21703-1702922400-1702926000@www.thepahub.co.uk
SUMMARY:Christmas Digital Event 2024
DESCRIPTION:Join us online for our Members only Zoom get together!
URL:https://www.thepahub.co.uk/event/digital-christmas-24/
CATEGORIES:Online Events
ATTACH;FMTTYPE=image/png:https://www.thepahub.co.uk/wp-content/uploads/2023/11/Copy-of-The-PA-Hub-Virtual-Christmas-Zoom.png
LOCATION:https://www.thepahub.co.uk/event/digital-christmas-24/
END:VEVENT
BEGIN:VEVENT
DTSTART;TZID=Europe/London:20240111T180000
DTEND;TZID=Europe/London:20240111T200000
DTSTAMP:20260421T155204
CREATED:20230726T190324Z
LAST-MODIFIED:20240108T151827Z
UID:19957-1704996000-1705003200@www.thepahub.co.uk
SUMMARY:Leeds Social - Crowne Plaza Leeds & TAP
DESCRIPTION:Join us at the amazing Crowne Plaza Leeds and TAP for an evening of socialising with Cocktail making paired with great food!\n 
URL:https://www.thepahub.co.uk/event/leeds-crowne-plaza-social/
LOCATION:Crowne Plaza Leeds and TAP\, Wellington Street\, Leeds\, LS1 4DL\, United Kingdom
CATEGORIES:Leeds
ATTACH;FMTTYPE=image/jpeg:https://www.thepahub.co.uk/wp-content/uploads/2023/07/cp_leeds_lsc_lkp_r_rgb_pos.jpg
END:VEVENT
BEGIN:VEVENT
DTSTART;TZID=Europe/London:20240116T180000
DTEND;TZID=Europe/London:20240116T200000
DTSTAMP:20260421T155204
CREATED:20231214T125626Z
LAST-MODIFIED:20240111T155242Z
UID:21802-1705428000-1705435200@www.thepahub.co.uk
SUMMARY:Newcastle Social - Victors Restaurant
DESCRIPTION:Join us at the stunning Victors Restaurant for an evening of socialising with cocktail making and tasting around the bar paired with great food!\n 
URL:https://www.thepahub.co.uk/event/newcastle-social-victors/
LOCATION:Victors Restaurant Newcastle\, 106 Quayside\, Newcastle upon Tyne\, NE1 3DX
CATEGORIES:Newcastle
ATTACH;FMTTYPE=image/png:https://www.thepahub.co.uk/wp-content/uploads/2023/12/logo-dark.png
END:VEVENT
BEGIN:VEVENT
DTSTART;TZID=Europe/London:20240130T173000
DTEND;TZID=Europe/London:20240130T193000
DTSTAMP:20260421T155204
CREATED:20240112T152132Z
LAST-MODIFIED:20240129T155137Z
UID:21932-1706635800-1706643000@www.thepahub.co.uk
SUMMARY:Liverpool Social Event - NORD
DESCRIPTION:Join us at the stylish NORD Liverpool – for an evening of friendly networking with welcome drink and delicious canapes.
URL:https://www.thepahub.co.uk/event/nord-liverpool/
LOCATION:NORD\, 100 Old Hall St\,\, Liverpool\, L3 9QJ\, United Kingdom
CATEGORIES:Liverpool
ATTACH;FMTTYPE=image/png:https://www.thepahub.co.uk/wp-content/uploads/2024/01/NORD-Logo.png
END:VEVENT
BEGIN:VEVENT
DTSTART;TZID=Europe/London:20240221T123000
DTEND;TZID=Europe/London:20240221T133000
DTSTAMP:20260421T155204
CREATED:20240129T091853Z
LAST-MODIFIED:20240221T122039Z
UID:22023-1708518600-1708522200@www.thepahub.co.uk
SUMMARY:Digital Development Event with Innovation Experts
DESCRIPTION:Join us for our digital event with Daniel Smith\, Harriet Holley and Matthew Harrington from Innovation Experts\nAI Training Dedicated for Assistants!
URL:https://www.thepahub.co.uk/event/digital-ai-feb24/
CATEGORIES:Online Events
ATTACH;FMTTYPE=image/jpeg:https://www.thepahub.co.uk/wp-content/uploads/2024/01/logo-white-dark-bg.jpg
LOCATION:https://www.thepahub.co.uk/event/digital-ai-feb24/
END:VEVENT
BEGIN:VEVENT
DTSTART;TZID=Europe/London:20240229T180000
DTEND;TZID=Europe/London:20240229T200000
DTSTAMP:20260421T155204
CREATED:20240217T170928Z
LAST-MODIFIED:20240229T104029Z
UID:22665-1709229600-1709236800@www.thepahub.co.uk
SUMMARY:Social Event - Hyatt Hotels Manchester
DESCRIPTION:Join us for our social at Hyatt Hotels Manchester for friendly networking over drinks and canapés and some fun activities on the stunning 18th floor!\n 
URL:https://www.thepahub.co.uk/event/hyatt-hotels-manchester-2024/
LOCATION:Hyatt Hotels Manchester\, 55 Booth Street West\, Manchester\, M15 6PQ
CATEGORIES:Manchester
ATTACH;FMTTYPE=image/png:https://www.thepahub.co.uk/wp-content/uploads/2024/02/Hyatt-Manchester.png
END:VEVENT
BEGIN:VEVENT
DTSTART;TZID=Europe/London:20240321T173000
DTEND;TZID=Europe/London:20240321T203000
DTSTAMP:20260421T155204
CREATED:20240129T174129Z
LAST-MODIFIED:20240129T195914Z
UID:22057-1711042200-1711053000@www.thepahub.co.uk
SUMMARY:Leeds Spring Showcase 2024
DESCRIPTION:FREE for all PAs\, EAs\, VAs\, Secretaries and Office Managers and equivalent roles to attend with excellent networking and FABULOUS prizes!
URL:https://www.thepahub.co.uk/event/leeds-spring-2024-showcase/
LOCATION:Cloth Hall Court – University of Leeds\, Quebec Street\, Leeds\, LS1 2HA\, United Kingdom
CATEGORIES:Leeds
ATTACH;FMTTYPE=image/png:https://www.thepahub.co.uk/wp-content/uploads/2024/01/Christmas-SC-23-2.png
END:VEVENT
BEGIN:VEVENT
DTSTART;TZID=Europe/London:20240409T173000
DTEND;TZID=Europe/London:20240409T203000
DTSTAMP:20260421T155204
CREATED:20240129T201609Z
LAST-MODIFIED:20240326T193015Z
UID:22073-1712683800-1712694600@www.thepahub.co.uk
SUMMARY:Newcastle Spring Showcase 2024
DESCRIPTION:FREE for all PAs\, EAs\, VAs\, Secretaries and Office Managers and equivalent roles to attend with excellent networking and FABULOUS prizes!
URL:https://www.thepahub.co.uk/event/ncl-spring-2024-showcase/
LOCATION:Royal Station Hotel\, Neville Street\, Newcastle upon Tyne\, NE1 5DH\, United Kingdom
CATEGORIES:Newcastle
ATTACH;FMTTYPE=image/png:https://www.thepahub.co.uk/wp-content/uploads/2024/01/Newcastle-SCS-24.png
END:VEVENT
BEGIN:VEVENT
DTSTART;TZID=Europe/London:20240411T173000
DTEND;TZID=Europe/London:20240411T203000
DTSTAMP:20260421T155204
CREATED:20240129T210229Z
LAST-MODIFIED:20240129T215717Z
UID:22093-1712856600-1712867400@www.thepahub.co.uk
SUMMARY:Manchester Spring Showcase 2024
DESCRIPTION:FREE for all PAs\, EAs\, VAs\, Secretaries and Office Managers and equivalent roles to attend with excellent networking and FABULOUS prizes!
URL:https://www.thepahub.co.uk/event/mcr-spring-2024-showcase/
LOCATION:The Midland Hotel\, 16 Peter St\, Manchester\, M60 2DS\, United Kingdom
CATEGORIES:Manchester
ATTACH;FMTTYPE=image/png:https://www.thepahub.co.uk/wp-content/uploads/2024/01/Manchester-SCS-24.png
END:VEVENT
BEGIN:VEVENT
DTSTART;TZID=Europe/London:20240418T173000
DTEND;TZID=Europe/London:20240418T203000
DTSTAMP:20260421T155204
CREATED:20240129T213344Z
LAST-MODIFIED:20240412T142700Z
UID:22094-1713461400-1713472200@www.thepahub.co.uk
SUMMARY:Liverpool Spring Showcase 2024
DESCRIPTION:FREE for all PAs\, EAs\, VAs\, Secretaries and Office Managers and equivalent roles to attend with excellent networking and FABULOUS prizes!
URL:https://www.thepahub.co.uk/event/lpl-spring-2024-showcase/
LOCATION:Spaces at The Spine\, The Spine\, 2 Paddington Village\, Liverpool\, L7 3FA\, United Kingdom
CATEGORIES:Liverpool
ATTACH;FMTTYPE=image/png:https://www.thepahub.co.uk/wp-content/uploads/2024/01/Liverpool-SCS-24.png
END:VEVENT
BEGIN:VEVENT
DTSTART;TZID=Europe/London:20240430T180000
DTEND;TZID=Europe/London:20240430T203000
DTSTAMP:20260421T155204
CREATED:20240409T112648Z
LAST-MODIFIED:20240424T230458Z
UID:23136-1714500000-1714509000@www.thepahub.co.uk
SUMMARY:Liverpool Development Event - Pullman Liverpool with special guest speaker Paul J Abbott
DESCRIPTION:Join us at Pullman Liverpool for a development event with Paul J Abbott
URL:https://www.thepahub.co.uk/event/liverpool-pullman/
LOCATION:Pullman Liverpool\, Kings Dock\, Liverpool\, L3 4FP\, United Kingdom
CATEGORIES:Liverpool
ATTACH;FMTTYPE=image/png:https://www.thepahub.co.uk/wp-content/uploads/2024/04/Pullman.png
END:VEVENT
BEGIN:VEVENT
DTSTART;TZID=Europe/London:20240516T173000
DTEND;TZID=Europe/London:20240516T190000
DTSTAMP:20260421T155204
CREATED:20240404T141354Z
LAST-MODIFIED:20240404T160414Z
UID:23112-1715880600-1715886000@www.thepahub.co.uk
SUMMARY:Leeds Pre-Conference Social Event - Banyan
DESCRIPTION:Join us for our pre-conference social event at Banyan in Leeds City Centre for some friendly PA networking.\n  \n 
URL:https://www.thepahub.co.uk/event/banyan-leeds-preconf24/
LOCATION:Banyan Leeds\, 2 City Square\, Leeds\, LS1 2ES\, United Kingdom
CATEGORIES:Leeds
ATTACH;FMTTYPE=image/png:https://www.thepahub.co.uk/wp-content/uploads/2023/05/Banyan-Logo.png
END:VEVENT
BEGIN:VEVENT
DTSTART;TZID=Europe/London:20240517T083000
DTEND;TZID=Europe/London:20240517T163000
DTSTAMP:20260421T155204
CREATED:20230327T222104Z
LAST-MODIFIED:20240514T215515Z
UID:18333-1715934600-1715963400@www.thepahub.co.uk
SUMMARY:Leeds Conference 2024
DESCRIPTION:Full Day Conference\n  \nSee full Conference details here and book your tickets below.\n  \n  \n  \n    
URL:https://www.thepahub.co.uk/event/leeds-conference-2024/
LOCATION:Hilton Leeds City\, Neville Street \, Leeds\, LS1 4BX\, United Kingdom
CATEGORIES:Leeds
ATTACH;FMTTYPE=image/jpeg:https://www.thepahub.co.uk/wp-content/uploads/2018/02/The-PA-Hub-Conference-01.jpg
END:VEVENT
BEGIN:VEVENT
DTSTART;TZID=Europe/London:20240521T180000
DTEND;TZID=Europe/London:20240521T203000
DTSTAMP:20260421T155204
CREATED:20240424T181959Z
LAST-MODIFIED:20240514T140511Z
UID:23284-1716314400-1716323400@www.thepahub.co.uk
SUMMARY:Newcastle Development Event - Gino D'Acampo & Innside by Melia Newcastle with Ex Celebrity PA and Author\, Merryl Futerman
DESCRIPTION:Join us at Gino D’Acampo & Innside by Melia Newcastle with Merryl Futerman.
URL:https://www.thepahub.co.uk/event/gino-dacampo-innside-newcastle/
LOCATION:INNSiDE By Melia Newcastle\, River View\, Bridge Court\,\, Newcastle upon Tyne\, NE1 3BE\, United Kingdom
CATEGORIES:Newcastle
ATTACH;FMTTYPE=image/png:https://www.thepahub.co.uk/wp-content/uploads/2024/04/Newcastle-Event.png
END:VEVENT
BEGIN:VEVENT
DTSTART;TZID=Europe/London:20240611T180000
DTEND;TZID=Europe/London:20240611T200000
DTSTAMP:20260421T155204
CREATED:20240425T121700Z
LAST-MODIFIED:20240510T160523Z
UID:23330-1718128800-1718136000@www.thepahub.co.uk
SUMMARY:Liverpool Summer Social - Hotel Indigo & Marco Pierre White Liverpool
DESCRIPTION:Join us at the fantastic Hotel Indigo & Marco Pierre White Liverpool for an summer social evening.\n  \n  \n 
URL:https://www.thepahub.co.uk/event/hotel-indigo-liverpool/
LOCATION:Hotel Indigo Liverpool & Marco Pierre White Steakhouse Bar & Grill Liverpool\, 10 Chapel Street\, Liverpool\, L3 9AG\, United Kingdom
CATEGORIES:Liverpool
ATTACH;FMTTYPE=image/jpeg:https://www.thepahub.co.uk/wp-content/uploads/2024/04/Hotel-Indigo-Liverpool.jpg
END:VEVENT
BEGIN:VEVENT
DTSTART;TZID=Europe/London:20240619T180000
DTEND;TZID=Europe/London:20240619T200000
DTSTAMP:20260421T155204
CREATED:20240426T143117Z
LAST-MODIFIED:20240618T135255Z
UID:23382-1718820000-1718827200@www.thepahub.co.uk
SUMMARY:Leeds Summer Social - Dakota Hotel
DESCRIPTION:Join us at the beautiful Dakota Hotel Leeds for a summer social evening.\n  \n  \n 
URL:https://www.thepahub.co.uk/event/dakota-leeds/
LOCATION:Dakota Leeds\, 8 Russell Street\, Leeds\, LS1 5RN\, United Kingdom
CATEGORIES:Leeds
ATTACH;FMTTYPE=image/png:https://www.thepahub.co.uk/wp-content/uploads/2024/04/Dakota-logo-1.png
END:VEVENT
BEGIN:VEVENT
DTSTART;TZID=Europe/London:20240620T180000
DTEND;TZID=Europe/London:20240620T200000
DTSTAMP:20260421T155204
CREATED:20240424T215211Z
LAST-MODIFIED:20240523T153315Z
UID:23302-1718906400-1718913600@www.thepahub.co.uk
SUMMARY:Newcastle Summer Social - Maldron Hotel Newcastle
DESCRIPTION:Join us at the fabulous Maldron Hotel Newcastle for an social evening with cocktails in the courtyard and a BBQ style menu served in the outdoor courtyard.\n  \n  \n 
URL:https://www.thepahub.co.uk/event/maldron-hotel-newcastle/
LOCATION:Maldron Hotel Newcastle\, 17 Newgate Street\, \, Newcastle Upon Tyne\, NE1 5RE\, United Kingdom
CATEGORIES:Newcastle
ATTACH;FMTTYPE=image/jpeg:https://www.thepahub.co.uk/wp-content/uploads/2024/04/MALDRON_LOGO_FULL_COLOUR_CMYK-scaled.jpg
END:VEVENT
BEGIN:VEVENT
DTSTART;TZID=Europe/London:20240626T180000
DTEND;TZID=Europe/London:20240626T203000
DTSTAMP:20260421T155204
CREATED:20240605T172507Z
LAST-MODIFIED:20240624T150536Z
UID:23985-1719424800-1719433800@www.thepahub.co.uk
SUMMARY:Leeds Development Event - with Guest Speaker Victoria Eames - Revolucion de Cuba
DESCRIPTION:Join us in Leeds for a development event with special guest speaker Victoria Eames upstairs in the private space at Revolucion de Cuba
URL:https://www.thepahub.co.uk/event/leeds-victoria-eames/
LOCATION:Revolucion de Cuba\, 64-68 Call Lane\, Leeds\, LS1 6DT\, United Kingdom
CATEGORIES:Leeds
ATTACH;FMTTYPE=image/png:https://www.thepahub.co.uk/wp-content/uploads/2024/06/Leeds-Tori-1.png
END:VEVENT
END:VCALENDAR