BEGIN:VCALENDAR
VERSION:2.0
PRODID:-//The PA Hub - ECPv6.15.20//NONSGML v1.0//EN
CALSCALE:GREGORIAN
METHOD:PUBLISH
X-WR-CALNAME:The PA Hub
X-ORIGINAL-URL:https://www.thepahub.co.uk
X-WR-CALDESC:Events for The PA Hub
REFRESH-INTERVAL;VALUE=DURATION:PT1H
X-Robots-Tag:noindex
X-PUBLISHED-TTL:PT1H
BEGIN:VTIMEZONE
TZID:Europe/London
BEGIN:DAYLIGHT
TZOFFSETFROM:+0000
TZOFFSETTO:+0100
TZNAME:BST
DTSTART:20250330T010000
END:DAYLIGHT
BEGIN:STANDARD
TZOFFSETFROM:+0100
TZOFFSETTO:+0000
TZNAME:GMT
DTSTART:20251026T010000
END:STANDARD
BEGIN:DAYLIGHT
TZOFFSETFROM:+0000
TZOFFSETTO:+0100
TZNAME:BST
DTSTART:20260329T010000
END:DAYLIGHT
BEGIN:STANDARD
TZOFFSETFROM:+0100
TZOFFSETTO:+0000
TZNAME:GMT
DTSTART:20261025T010000
END:STANDARD
BEGIN:DAYLIGHT
TZOFFSETFROM:+0000
TZOFFSETTO:+0100
TZNAME:BST
DTSTART:20270328T010000
END:DAYLIGHT
BEGIN:STANDARD
TZOFFSETFROM:+0100
TZOFFSETTO:+0000
TZNAME:GMT
DTSTART:20271031T010000
END:STANDARD
BEGIN:DAYLIGHT
TZOFFSETFROM:+0000
TZOFFSETTO:+0100
TZNAME:BST
DTSTART:20280326T010000
END:DAYLIGHT
BEGIN:STANDARD
TZOFFSETFROM:+0100
TZOFFSETTO:+0000
TZNAME:GMT
DTSTART:20281029T010000
END:STANDARD
END:VTIMEZONE
BEGIN:VEVENT
DTSTART;TZID=Europe/London:20260707T173000
DTEND;TZID=Europe/London:20260707T173000
DTSTAMP:20260425T013908
CREATED:20260330T121004Z
LAST-MODIFIED:20260331T182651Z
UID:32380-1783445400-1783445400@www.thepahub.co.uk
SUMMARY:Liverpool Social Event - Albert's Schloss
DESCRIPTION:Join us at the fabulous Albert’s Schloss\, Liverpool for a fun and action packed social evening.\n  \n  \n 
URL:https://www.thepahub.co.uk/event/liverpool-social-event-alberts-schloss/
LOCATION:Alberts Schloss\, Radiant House\, 18-26 Bold Street\, Liverpool\, L1 4DS
CATEGORIES:Liverpool,Social Event
ATTACH;FMTTYPE=image/png:https://www.thepahub.co.uk/wp-content/uploads/2026/03/Alberts-Schloss-Social-LinkedIn-Post.png
END:VEVENT
BEGIN:VEVENT
DTSTART;TZID=Europe/London:20260708T173000
DTEND;TZID=Europe/London:20260708T193000
DTSTAMP:20260425T013908
CREATED:20260331T164803Z
LAST-MODIFIED:20260423T140344Z
UID:32461-1783531800-1783539000@www.thepahub.co.uk
SUMMARY:Manchester Social Event - Cloud 23 at The Manchester Deansgate Hotel
DESCRIPTION:Join us for an exclusive friendly networking evening.
URL:https://www.thepahub.co.uk/event/manchester-social-event-cloud-23/
LOCATION:Cloud 23 at The Manchester Deansgate Hotel\, 303\, Deansgate\, Manchester\, M3 4LQ\, United Kingdom
CATEGORIES:Manchester,Social Event
ATTACH;FMTTYPE=image/png:https://www.thepahub.co.uk/wp-content/uploads/2026/03/Cloud-23-Manchester-Social-LinkedIn-Post.png
END:VEVENT
BEGIN:VEVENT
DTSTART;TZID=Europe/London:20261015T100000
DTEND;TZID=Europe/London:20261015T140000
DTSTAMP:20260425T013908
CREATED:20260211T120418Z
LAST-MODIFIED:20260212T161651Z
UID:31659-1792058400-1792072800@www.thepahub.co.uk
SUMMARY:Newcastle Training Day Event with LinkedIn Training - Guest Speaker Judy Parsons at Crowne Plaza Stephenson Quarter
DESCRIPTION:Join us at Crowne Plaza Stephenson Quarter Newcastle for an insightful training day on LinkedIn with guest speaker Judy Parsons.
URL:https://www.thepahub.co.uk/event/newcastle-training-day-judy-parsons/
LOCATION:Crowne Plaza Newcastle – Stephenson Quarter\, Hawthorn Square\, Forth Street\, Newcastle upon Tyne\, NE1 3SA\, United Kingdom
CATEGORIES:Newcastle
ATTACH;FMTTYPE=image/png:https://www.thepahub.co.uk/wp-content/uploads/2026/02/Training-Day-Newcastle-Judy-Parsons-Facebook-Post.png
END:VEVENT
BEGIN:VEVENT
DTSTART;TZID=Europe/London:20270225T100000
DTEND;TZID=Europe/London:20270225T140000
DTSTAMP:20260425T013908
CREATED:20260330T182341Z
LAST-MODIFIED:20260331T144405Z
UID:32413-1803549600-1803564000@www.thepahub.co.uk
SUMMARY:Training Day Manchester with Guest Speaker Heather Wright
DESCRIPTION:Join us in Manchester City Centre for an insightful training day on Defining Your Work Culture\, Safe Teams and Handling Conversations with guest speaker Heather Wright
URL:https://www.thepahub.co.uk/event/training-day-manchester-2027-heather-wright/
LOCATION:VENUE TBC\, United Kingdom
CATEGORIES:Manchester
ATTACH;FMTTYPE=image/png:https://www.thepahub.co.uk/wp-content/uploads/2026/03/Training-Day-Manchester-Heather-Wright-Facebook-Post.png
END:VEVENT
END:VCALENDAR