BEGIN:VCALENDAR
VERSION:2.0
PRODID:-//The PA Hub - ECPv6.15.20//NONSGML v1.0//EN
CALSCALE:GREGORIAN
METHOD:PUBLISH
X-ORIGINAL-URL:https://www.thepahub.co.uk
X-WR-CALDESC:Events for The PA Hub
REFRESH-INTERVAL;VALUE=DURATION:PT1H
X-Robots-Tag:noindex
X-PUBLISHED-TTL:PT1H
BEGIN:VTIMEZONE
TZID:Europe/London
BEGIN:DAYLIGHT
TZOFFSETFROM:+0000
TZOFFSETTO:+0100
TZNAME:BST
DTSTART:20190331T010000
END:DAYLIGHT
BEGIN:STANDARD
TZOFFSETFROM:+0100
TZOFFSETTO:+0000
TZNAME:GMT
DTSTART:20191027T010000
END:STANDARD
BEGIN:DAYLIGHT
TZOFFSETFROM:+0000
TZOFFSETTO:+0100
TZNAME:BST
DTSTART:20200329T010000
END:DAYLIGHT
BEGIN:STANDARD
TZOFFSETFROM:+0100
TZOFFSETTO:+0000
TZNAME:GMT
DTSTART:20201025T010000
END:STANDARD
BEGIN:DAYLIGHT
TZOFFSETFROM:+0000
TZOFFSETTO:+0100
TZNAME:BST
DTSTART:20210328T010000
END:DAYLIGHT
BEGIN:STANDARD
TZOFFSETFROM:+0100
TZOFFSETTO:+0000
TZNAME:GMT
DTSTART:20211031T010000
END:STANDARD
END:VTIMEZONE
BEGIN:VEVENT
DTSTART;TZID=Europe/London:20201202T083000
DTEND;TZID=Europe/London:20201202T090000
DTSTAMP:20260421T141131
CREATED:20201113T082640Z
LAST-MODIFIED:20201113T105457Z
UID:7881-1606897800-1606899600@www.thepahub.co.uk
SUMMARY:The PA Hub Online Member Support Group
DESCRIPTION:Join us for chats and discussions at our weekly group meetings. All events are shown in London GMT timezone.
URL:https://www.thepahub.co.uk/event/supportgroup3/
CATEGORIES:Leeds,Liverpool,Online Events
ATTACH;FMTTYPE=image/png:https://www.thepahub.co.uk/wp-content/uploads/2020/11/group-3354366_1920.png
LOCATION:https://www.thepahub.co.uk/event/supportgroup3/
END:VEVENT
BEGIN:VEVENT
DTSTART;TZID=Europe/London:20201208T123000
DTEND;TZID=Europe/London:20201208T130000
DTSTAMP:20260421T141131
CREATED:20201202T160108Z
LAST-MODIFIED:20201202T170015Z
UID:8033-1607430600-1607432400@www.thepahub.co.uk
SUMMARY:The PA Hub Online Member Support Group
DESCRIPTION:Join us for chats and discussions at our weekly group meetings. All events are shown in London GMT timezone.
URL:https://www.thepahub.co.uk/event/supportgroup08122020/
CATEGORIES:Leeds,Liverpool,Online Events
ATTACH;FMTTYPE=image/jpeg:https://www.thepahub.co.uk/wp-content/uploads/2020/11/smartphone-1445489_1920.jpg
LOCATION:
END:VEVENT
BEGIN:VEVENT
DTSTART;TZID=Europe/London:20201210T180000
DTEND;TZID=Europe/London:20201210T190000
DTSTAMP:20260421T141131
CREATED:20201202T171141Z
LAST-MODIFIED:20201206T203948Z
UID:8038-1607623200-1607626800@www.thepahub.co.uk
SUMMARY:Digital Event - with Special Guest Speaker Deborah Ogden
DESCRIPTION:Let’s Get Visible \nRaising our profile and being visible can be challenging at the best of times\, but throw in a global pandemic\, lockdown and working from home can make it feel close to impossible! In this webinar Deborah looks at why visibility is always important and even more so in the current climate.  `
URL:https://www.thepahub.co.uk/event/digital-deborah-ogden/
CATEGORIES:Leeds,Liverpool,Online Events
ATTACH;FMTTYPE=image/jpeg:https://www.thepahub.co.uk/wp-content/uploads/2020/12/Deborah-Ogden-scaled-e1607283877942.jpeg
LOCATION:https://www.thepahub.co.uk/event/digital-deborah-ogden/
END:VEVENT
BEGIN:VEVENT
DTSTART;TZID=Europe/London:20201215T183000
DTEND;TZID=Europe/London:20201215T200000
DTSTAMP:20260421T141131
CREATED:20201206T165230Z
LAST-MODIFIED:20201214T114606Z
UID:8087-1608057000-1608062400@www.thepahub.co.uk
SUMMARY:The PA Hub Festive Party Event
DESCRIPTION:Don’t miss our online festive group party 😀 \nBringing some Christmas cheer to our PA Hub festive event. We want to laugh together and enjoy an event where everyone has the opportunity to join in with other assistants to have some fun and group chats with prizes galore!
URL:https://www.thepahub.co.uk/event/festiveparty2020/
CATEGORIES:Leeds,Liverpool,Online Events
ATTACH;FMTTYPE=image/jpeg:https://www.thepahub.co.uk/wp-content/uploads/2015/10/Beautiful-Christmas-Tree-with-Blue-Desktop-Background1.jpg
LOCATION:https://www.thepahub.co.uk/event/festiveparty2020/
END:VEVENT
BEGIN:VEVENT
DTSTART;TZID=Europe/London:20201222T123000
DTEND;TZID=Europe/London:20201222T130000
DTSTAMP:20260421T141131
CREATED:20201206T150242Z
LAST-MODIFIED:20201206T202037Z
UID:8073-1608640200-1608642000@www.thepahub.co.uk
SUMMARY:The PA Hub Online Member Support Group
DESCRIPTION:Join us for our last group chat and discussion of 2020. Hope to see you there! All events are shown in London GMT timezone.
URL:https://www.thepahub.co.uk/event/supportgroup22122020/
CATEGORIES:Leeds,Liverpool,Online Events
ATTACH;FMTTYPE=image/jpeg:https://www.thepahub.co.uk/wp-content/uploads/2020/11/together-2450090_1920.jpg
LOCATION:
END:VEVENT
END:VCALENDAR